BEGIN:VCALENDAR
VERSION:2.0
PRODID:-//CCANA - ECPv6.15.20//NONSGML v1.0//EN
CALSCALE:GREGORIAN
METHOD:PUBLISH
X-ORIGINAL-URL:https://centralcarolinana.org
X-WR-CALDESC:Events for CCANA
REFRESH-INTERVAL;VALUE=DURATION:PT1H
X-Robots-Tag:noindex
X-PUBLISHED-TTL:PT1H
BEGIN:VTIMEZONE
TZID:America/New_York
BEGIN:DAYLIGHT
TZOFFSETFROM:-0500
TZOFFSETTO:-0400
TZNAME:EDT
DTSTART:20250309T070000
END:DAYLIGHT
BEGIN:STANDARD
TZOFFSETFROM:-0400
TZOFFSETTO:-0500
TZNAME:EST
DTSTART:20251102T060000
END:STANDARD
BEGIN:DAYLIGHT
TZOFFSETFROM:-0500
TZOFFSETTO:-0400
TZNAME:EDT
DTSTART:20260308T070000
END:DAYLIGHT
BEGIN:STANDARD
TZOFFSETFROM:-0400
TZOFFSETTO:-0500
TZNAME:EST
DTSTART:20261101T060000
END:STANDARD
BEGIN:DAYLIGHT
TZOFFSETFROM:-0500
TZOFFSETTO:-0400
TZNAME:EDT
DTSTART:20270314T070000
END:DAYLIGHT
BEGIN:STANDARD
TZOFFSETFROM:-0400
TZOFFSETTO:-0500
TZNAME:EST
DTSTART:20271107T060000
END:STANDARD
END:VTIMEZONE
BEGIN:VEVENT
DTSTART;VALUE=DATE:20260424
DTEND;VALUE=DATE:20260427
DTSTAMP:20260424T190056
CREATED:20250923T183456Z
LAST-MODIFIED:20260116T174109Z
UID:2501-1776988800-1777247999@centralcarolinana.org
SUMMARY:Recovery Under the Stars: Spring Campout 2026
DESCRIPTION:Arts & Crafts\, Team-Building Games\, Friday & Saturday Night Campfire Speaker Meetings\, Hiking & Nature Time\, Meals and snacks included. \nPreregistration $25\, Day of registration $30. CashApp: $RUTSCCANA
URL:https://centralcarolinana.org/event/recovery-under-the-stars-spring-campout-2026/
LOCATION:Poinsett State Park\, 6660 Poinsett Park Road\, Wedgefield\, SC\, 29168\, United States
ATTACH;FMTTYPE=image/png:https://centralcarolinana.org/wp-content/uploads/2025/09/ruts_spring_campout_2026.png
END:VEVENT
BEGIN:VEVENT
DTSTART;TZID=America/New_York:20260425T140000
DTEND;TZID=America/New_York:20260425T150000
DTSTAMP:20260424T190056
CREATED:20260422T000639Z
LAST-MODIFIED:20260422T000639Z
UID:2853-1777125600-1777129200@centralcarolinana.org
SUMMARY:Convention Fundraising Meeting
DESCRIPTION:Starbucks 475 Piney Grove Rd\, Columbia\, SC 29212
URL:https://centralcarolinana.org/event/convention-fundraising-meeting/
LOCATION:SC
END:VEVENT
BEGIN:VEVENT
DTSTART;TZID=America/New_York:20260426T134500
DTEND;TZID=America/New_York:20260426T150000
DTSTAMP:20260424T190056
CREATED:20260422T000803Z
LAST-MODIFIED:20260422T000803Z
UID:2855-1777211100-1777215600@centralcarolinana.org
SUMMARY:Public Relations Subcommittee Meeting
DESCRIPTION:
URL:https://centralcarolinana.org/event/public-relations-subcommittee-meeting/
LOCATION:Naturally High\, 5220 Clemson Ave\, Columbia\, 29204\, United States
END:VEVENT
BEGIN:VEVENT
DTSTART;TZID=America/New_York:20260426T141500
DTEND;TZID=America/New_York:20260426T150000
DTSTAMP:20260424T190056
CREATED:20260422T000856Z
LAST-MODIFIED:20260422T000856Z
UID:2857-1777212900-1777215600@centralcarolinana.org
SUMMARY:Mid Carolina Hospitals and Institutions Orientation
DESCRIPTION:
URL:https://centralcarolinana.org/event/mid-carolina-hospitals-and-institutions-orientation/
LOCATION:Naturally High\, 5220 Clemson Ave\, Columbia\, 29204\, United States
END:VEVENT
BEGIN:VEVENT
DTSTART;TZID=America/New_York:20260426T150000
DTEND;TZID=America/New_York:20260426T160000
DTSTAMP:20260424T190056
CREATED:20260422T000951Z
LAST-MODIFIED:20260422T000951Z
UID:2859-1777215600-1777219200@centralcarolinana.org
SUMMARY:Mid Carolina Hospitals and Institutions Subcommittee Meeting
DESCRIPTION:
URL:https://centralcarolinana.org/event/mid-carolina-hospitals-and-institutions-subcommittee-meeting/
LOCATION:Naturally High\, 5220 Clemson Ave\, Columbia\, 29204\, United States
END:VEVENT
BEGIN:VEVENT
DTSTART;TZID=America/New_York:20260427T190000
DTEND;TZID=America/New_York:20260427T200000
DTSTAMP:20260424T190056
CREATED:20260422T001228Z
LAST-MODIFIED:20260422T001228Z
UID:2863-1777316400-1777320000@centralcarolinana.org
SUMMARY:Unity Day Committee Meeting
DESCRIPTION:https://us06web.zoom.us/j/8037666863?pwd=72Q9hcfnRly3JhjXZgVHMk1cYlBEzf.1\nMeeting ID: 803 766 6863\nPasscode: 081690
URL:https://centralcarolinana.org/event/unity-day-committee-meeting/
LOCATION:SC
END:VEVENT
END:VCALENDAR