BEGIN:VCALENDAR
VERSION:2.0
PRODID:-//CCANA - ECPv6.15.20//NONSGML v1.0//EN
CALSCALE:GREGORIAN
METHOD:PUBLISH
X-WR-CALNAME:CCANA
X-ORIGINAL-URL:https://centralcarolinana.org
X-WR-CALDESC:Events for CCANA
REFRESH-INTERVAL;VALUE=DURATION:PT1H
X-Robots-Tag:noindex
X-PUBLISHED-TTL:PT1H
BEGIN:VTIMEZONE
TZID:America/New_York
BEGIN:DAYLIGHT
TZOFFSETFROM:-0500
TZOFFSETTO:-0400
TZNAME:EDT
DTSTART:20250309T070000
END:DAYLIGHT
BEGIN:STANDARD
TZOFFSETFROM:-0400
TZOFFSETTO:-0500
TZNAME:EST
DTSTART:20251102T060000
END:STANDARD
BEGIN:DAYLIGHT
TZOFFSETFROM:-0500
TZOFFSETTO:-0400
TZNAME:EDT
DTSTART:20260308T070000
END:DAYLIGHT
BEGIN:STANDARD
TZOFFSETFROM:-0400
TZOFFSETTO:-0500
TZNAME:EST
DTSTART:20261101T060000
END:STANDARD
BEGIN:DAYLIGHT
TZOFFSETFROM:-0500
TZOFFSETTO:-0400
TZNAME:EDT
DTSTART:20270314T070000
END:DAYLIGHT
BEGIN:STANDARD
TZOFFSETFROM:-0400
TZOFFSETTO:-0500
TZNAME:EST
DTSTART:20271107T060000
END:STANDARD
END:VTIMEZONE
BEGIN:VEVENT
DTSTART;TZID=America/New_York:20260201T170000
DTEND;TZID=America/New_York:20260201T190000
DTSTAMP:20260424T214512
CREATED:20260120T231421Z
LAST-MODIFIED:20260120T231421Z
UID:2728-1769965200-1769972400@centralcarolinana.org
SUMMARY:Celebration at Legrand
DESCRIPTION:Connor’s 1 year clean! Food at 5pm\, meeting at 6pm.
URL:https://centralcarolinana.org/event/celebration-at-legrand/
LOCATION:LeGrand Recovery\, 1801 LeGrand Rd\, Columbia\, SC\, 29223\, United States
ATTACH;FMTTYPE=image/jpeg:https://centralcarolinana.org/wp-content/uploads/2026/01/legrand_celebration_feb1.jpg
END:VEVENT
BEGIN:VEVENT
DTSTART;TZID=America/New_York:20260208T140000
DTEND;TZID=America/New_York:20260208T150000
DTSTAMP:20260424T214512
CREATED:20260204T011208Z
LAST-MODIFIED:20260204T011208Z
UID:2736-1770559200-1770562800@centralcarolinana.org
SUMMARY:Policy and Procedure Subcommittee Meeting
DESCRIPTION:
URL:https://centralcarolinana.org/event/policy-and-procedure-subcommittee-meeting-4/
LOCATION:There is a Solution\, 500 S Kilbourne Rd\, Columbia\, SC\, 29205
END:VEVENT
BEGIN:VEVENT
DTSTART;TZID=America/New_York:20260208T150000
DTEND;TZID=America/New_York:20260208T170000
DTSTAMP:20260424T214512
CREATED:20260204T011316Z
LAST-MODIFIED:20260204T011316Z
UID:2738-1770562800-1770570000@centralcarolinana.org
SUMMARY:CCANA Area Service Committee Meeting
DESCRIPTION:
URL:https://centralcarolinana.org/event/ccana-area-service-committee-meeting/
LOCATION:There is a Solution\, 500 S Kilbourne Rd\, Columbia\, SC\, 29205
END:VEVENT
BEGIN:VEVENT
DTSTART;TZID=America/New_York:20260213T120000
DTEND;TZID=America/New_York:20260215T120000
DTSTAMP:20260424T214512
CREATED:20250927T202611Z
LAST-MODIFIED:20251120T224527Z
UID:2517-1770984000-1771156800@centralcarolinana.org
SUMMARY:GCANA RAW XXI Convention
DESCRIPTION:Registration\nRegistration is a small financial support provided by addicts to help maintain a safe haven for recovering addicts to celebrate recovery. Without registration\, Recovery At Work (RAW) convention could not sustain itself successfully as an annual event to celebrate recovery.\nRAW XXI REGISTRATION $30 (April 9th to December 31\, 2025)\nRAW XXI REGISTRATION $40 (January 1 through February 15th) \nRecovery At Work Registration Chair 803.606.5102 \nDate and Time\nFeb 13\, 12:00 PM EST – Feb 15\, 12:00 PM EST \nLocation\nDoubleTree Resort by Hilton Myrtle Beach Oceanfront\, South Ocean Boulevard\, Myrtle Beach\, SC\, USA \nhttps://my.cheddarup.com/c/raw-xxi-registration/items?fbclid=IwdGRleAMikclleHRuA2FlbQIxMQABHs3-49vYEOWcd3HTPaY8GSBEAeLMjJqGpMvYzqDyr97NvtnJ6ACNACN9E068_aem_CA1RlVdO6Og5ONMMtxSuWg
URL:https://centralcarolinana.org/event/gcana-raw-xxi-convention/
LOCATION:SC
ATTACH;FMTTYPE=image/jpeg:https://centralcarolinana.org/wp-content/uploads/2025/09/raw-xxi-convention-registration-flyer.jpg
END:VEVENT
BEGIN:VEVENT
DTSTART;TZID=America/New_York:20260214T140000
DTEND;TZID=America/New_York:20260214T160000
DTSTAMP:20260424T214512
CREATED:20260212T225515Z
LAST-MODIFIED:20260212T225515Z
UID:2763-1771077600-1771084800@centralcarolinana.org
SUMMARY:Activities Subcommittee Meeting
DESCRIPTION:https://us06web.zoom.us/j/8037666863?pwd=72Q9hcfnRly3JhjXZgVHMk1cYlBEzf.1&omn=89137061724\nMeeting ID: 803 766 6863\nPasscode: 081690
URL:https://centralcarolinana.org/event/activities-subcommittee-meeting-7/
LOCATION:SC
END:VEVENT
BEGIN:VEVENT
DTSTART;TZID=America/New_York:20260215T160000
DTEND;TZID=America/New_York:20260215T170000
DTSTAMP:20260424T214512
CREATED:20260212T225705Z
LAST-MODIFIED:20260212T225705Z
UID:2765-1771171200-1771174800@centralcarolinana.org
SUMMARY:Convention Registration Subcommittee Meeting
DESCRIPTION:Crowne Lake Apartments Clubhouse \n1310 Oakcrest Dr\, Columbia\, SC 29223
URL:https://centralcarolinana.org/event/convention-registration-subcommittee-meeting/
LOCATION:SC
END:VEVENT
BEGIN:VEVENT
DTSTART;TZID=America/New_York:20260221T120000
DTEND;TZID=America/New_York:20260221T130000
DTSTAMP:20260424T214512
CREATED:20260212T223604Z
LAST-MODIFIED:20260212T223604Z
UID:2747-1771675200-1771678800@centralcarolinana.org
SUMMARY:Celebration for Phyllis
DESCRIPTION:Phyllis is celebrating 39 years clean!
URL:https://centralcarolinana.org/event/celebration-for-phyllis/
LOCATION:Brookland United Methodist Church\, 541 Meeting St\, West Columbia\, SC\, 29169\, United States
ATTACH;FMTTYPE=image/jpeg:https://centralcarolinana.org/wp-content/uploads/2026/02/phyllis_celebration_feb21.jpg
END:VEVENT
BEGIN:VEVENT
DTSTART;TZID=America/New_York:20260221T140000
DTEND;TZID=America/New_York:20260221T150000
DTSTAMP:20260424T214512
CREATED:20251123T144123Z
LAST-MODIFIED:20260128T234959Z
UID:2649-1771682400-1771686000@centralcarolinana.org
SUMMARY:Welcome Home Subcommittee Meeting
DESCRIPTION:
URL:https://centralcarolinana.org/event/welcome-home-subcommittee-meeting-5/
LOCATION:Brookland United Methodist Church\, 541 Meeting St\, West Columbia\, SC\, 29169\, United States
END:VEVENT
BEGIN:VEVENT
DTSTART;TZID=America/New_York:20260221T150000
DTEND;TZID=America/New_York:20260221T200000
DTSTAMP:20260424T214512
CREATED:20260120T231121Z
LAST-MODIFIED:20260120T231121Z
UID:2725-1771686000-1771704000@centralcarolinana.org
SUMMARY:Unity Social Jam II Fundraiser
DESCRIPTION:CCANA Convention \nWelcome Home XXIX \nThe Ties That Bind \n  \nUnity Social Jam II Fundraiser \nSpeakers and spaghetti \n$10 admission \n$5 spaghetti plate
URL:https://centralcarolinana.org/event/unity-social-jam-ii-fundraiser/
LOCATION:Brookland United Methodist Church\, 541 Meeting St\, West Columbia\, SC\, 29169\, United States
ATTACH;FMTTYPE=image/png:https://centralcarolinana.org/wp-content/uploads/2026/01/unitysocialjamii_fundraiser.png
END:VEVENT
BEGIN:VEVENT
DTSTART;TZID=America/New_York:20260222T134500
DTEND;TZID=America/New_York:20260222T144500
DTSTAMP:20260424T214512
CREATED:20260212T224004Z
LAST-MODIFIED:20260212T230004Z
UID:2750-1771767900-1771771500@centralcarolinana.org
SUMMARY:PR Subcommittee Meeting
DESCRIPTION:PR subcommittee meets on the last Sunday of every month.
URL:https://centralcarolinana.org/event/pr-subcommittee-meeting-3/
LOCATION:Naturally High\, 5220 Clemson Ave\, Columbia\, 29204\, United States
END:VEVENT
BEGIN:VEVENT
DTSTART;TZID=America/New_York:20260222T141500
DTEND;TZID=America/New_York:20260222T150000
DTSTAMP:20260424T214512
CREATED:20260212T225904Z
LAST-MODIFIED:20260212T225904Z
UID:2767-1771769700-1771772400@centralcarolinana.org
SUMMARY:Hospitals and Institutions Orientation
DESCRIPTION:Meets on the last Sunday of every month
URL:https://centralcarolinana.org/event/hospitals-and-institutions-orientation/
LOCATION:Naturally High\, 5220 Clemson Ave\, Columbia\, 29204\, United States
END:VEVENT
BEGIN:VEVENT
DTSTART;TZID=America/New_York:20260222T150000
DTEND;TZID=America/New_York:20260222T160000
DTSTAMP:20260424T214512
CREATED:20260212T230126Z
LAST-MODIFIED:20260212T230126Z
UID:2771-1771772400-1771776000@centralcarolinana.org
SUMMARY:Hospitals and Institutions Subcommittee Meeting
DESCRIPTION:Meets on the last Sunday of every month
URL:https://centralcarolinana.org/event/hospitals-and-institutions-subcommittee-meeting-2/
LOCATION:Naturally High\, 5220 Clemson Ave\, Columbia\, 29204\, United States
END:VEVENT
BEGIN:VEVENT
DTSTART;TZID=America/New_York:20260222T170000
DTEND;TZID=America/New_York:20260222T180000
DTSTAMP:20260424T214512
CREATED:20260212T230334Z
LAST-MODIFIED:20260218T002152Z
UID:2773-1771779600-1771783200@centralcarolinana.org
SUMMARY:Convention Programming Subcommittee Meeting
DESCRIPTION:Zoom Only Meeting\n\nhttps://us06web.zoom.us/j/8037666863?pwd=72Q9hcfnRly3JhjXZgVHMk1cYlBEzf.1&omn=83675001290\n\nMeeting ID: 803 766 6863\nPasscode: 081690
URL:https://centralcarolinana.org/event/convention-programming-subcommittee-meeting/
LOCATION:SC
END:VEVENT
BEGIN:VEVENT
DTSTART;TZID=America/New_York:20260226T183000
DTEND;TZID=America/New_York:20260226T203000
DTSTAMP:20260424T214512
CREATED:20260212T230436Z
LAST-MODIFIED:20260212T230436Z
UID:2775-1772130600-1772137800@centralcarolinana.org
SUMMARY:Conference Agenda Report Workshop (Virtual)
DESCRIPTION:https://us06web.zoom.us/j/87985240876?pwd=i24p94LW3R5zY5kAmr70cYXgViPsEI.1\nCarolina Region of Narcotics Anonymous\nCRNA Regional Delegate\nPatrick J rd@crna.org
URL:https://centralcarolinana.org/event/conference-agenda-report-workshop-virtual/
LOCATION:SC
END:VEVENT
END:VCALENDAR