BEGIN:VCALENDAR
VERSION:2.0
PRODID:-//CCANA - ECPv6.15.20//NONSGML v1.0//EN
CALSCALE:GREGORIAN
METHOD:PUBLISH
X-ORIGINAL-URL:https://centralcarolinana.org
X-WR-CALDESC:Events for CCANA
REFRESH-INTERVAL;VALUE=DURATION:PT1H
X-Robots-Tag:noindex
X-PUBLISHED-TTL:PT1H
BEGIN:VTIMEZONE
TZID:America/New_York
BEGIN:DAYLIGHT
TZOFFSETFROM:-0500
TZOFFSETTO:-0400
TZNAME:EDT
DTSTART:20240310T070000
END:DAYLIGHT
BEGIN:STANDARD
TZOFFSETFROM:-0400
TZOFFSETTO:-0500
TZNAME:EST
DTSTART:20241103T060000
END:STANDARD
BEGIN:DAYLIGHT
TZOFFSETFROM:-0500
TZOFFSETTO:-0400
TZNAME:EDT
DTSTART:20250309T070000
END:DAYLIGHT
BEGIN:STANDARD
TZOFFSETFROM:-0400
TZOFFSETTO:-0500
TZNAME:EST
DTSTART:20251102T060000
END:STANDARD
BEGIN:DAYLIGHT
TZOFFSETFROM:-0500
TZOFFSETTO:-0400
TZNAME:EDT
DTSTART:20260308T070000
END:DAYLIGHT
BEGIN:STANDARD
TZOFFSETFROM:-0400
TZOFFSETTO:-0500
TZNAME:EST
DTSTART:20261101T060000
END:STANDARD
END:VTIMEZONE
BEGIN:VEVENT
DTSTART;TZID=America/New_York:20250712T160000
DTEND;TZID=America/New_York:20250712T170000
DTSTAMP:20260425T065026
CREATED:20250630T174528Z
LAST-MODIFIED:20250630T174528Z
UID:2391-1752336000-1752339600@centralcarolinana.org
SUMMARY:Welcome Home Subcommittee Meeting
DESCRIPTION:
URL:https://centralcarolinana.org/event/welcome-home-subcommittee-meeting-2/
LOCATION:Next Right Thing\, 1600 12th Street\, Cayce\, SC\, 29033\, United States
END:VEVENT
BEGIN:VEVENT
DTSTART;TZID=America/New_York:20250713T140000
DTEND;TZID=America/New_York:20250713T150000
DTSTAMP:20260425T065026
CREATED:20250624T225439Z
LAST-MODIFIED:20250624T225439Z
UID:2387-1752415200-1752418800@centralcarolinana.org
SUMMARY:P&P Subcommittee Meeting
DESCRIPTION:Policy and Procedures
URL:https://centralcarolinana.org/event/pp-subcommittee-meeting-2/
LOCATION:Hope Hole\, 1600 12th Street\, Cayce\, SC\, 29033\, United States
END:VEVENT
BEGIN:VEVENT
DTSTART;TZID=America/New_York:20250713T150000
DTEND;TZID=America/New_York:20250713T170000
DTSTAMP:20260425T065026
CREATED:20250620T163205Z
LAST-MODIFIED:20250620T163205Z
UID:2379-1752418800-1752426000@centralcarolinana.org
SUMMARY:Area Service Committee Meeting
DESCRIPTION:
URL:https://centralcarolinana.org/event/area-service-committee-meeting-3/
LOCATION:Hope Hole\, 1600 12th Street\, Cayce\, SC\, 29033\, United States
END:VEVENT
BEGIN:VEVENT
DTSTART;TZID=America/New_York:20250720T160000
DTEND;TZID=America/New_York:20250720T170000
DTSTAMP:20260425T065026
CREATED:20250620T162528Z
LAST-MODIFIED:20250620T162528Z
UID:2377-1753027200-1753030800@centralcarolinana.org
SUMMARY:RUTS Subcommittee Meeting
DESCRIPTION:Recovery Under the Stars campout business meeting
URL:https://centralcarolinana.org/event/ruts-subcommittee-meeting/
LOCATION:Starbucks W. Columbia\, 2408 Augusta Rd.\, West Columbia\, SC\, 29169\, United States
END:VEVENT
END:VCALENDAR