BEGIN:VCALENDAR
VERSION:2.0
PRODID:-//CCANA - ECPv6.15.20//NONSGML v1.0//EN
CALSCALE:GREGORIAN
METHOD:PUBLISH
X-WR-CALNAME:CCANA
X-ORIGINAL-URL:https://centralcarolinana.org
X-WR-CALDESC:Events for CCANA
REFRESH-INTERVAL;VALUE=DURATION:PT1H
X-Robots-Tag:noindex
X-PUBLISHED-TTL:PT1H
BEGIN:VTIMEZONE
TZID:America/New_York
BEGIN:DAYLIGHT
TZOFFSETFROM:-0500
TZOFFSETTO:-0400
TZNAME:EDT
DTSTART:20240310T070000
END:DAYLIGHT
BEGIN:STANDARD
TZOFFSETFROM:-0400
TZOFFSETTO:-0500
TZNAME:EST
DTSTART:20241103T060000
END:STANDARD
BEGIN:DAYLIGHT
TZOFFSETFROM:-0500
TZOFFSETTO:-0400
TZNAME:EDT
DTSTART:20250309T070000
END:DAYLIGHT
BEGIN:STANDARD
TZOFFSETFROM:-0400
TZOFFSETTO:-0500
TZNAME:EST
DTSTART:20251102T060000
END:STANDARD
BEGIN:DAYLIGHT
TZOFFSETFROM:-0500
TZOFFSETTO:-0400
TZNAME:EDT
DTSTART:20260308T070000
END:DAYLIGHT
BEGIN:STANDARD
TZOFFSETFROM:-0400
TZOFFSETTO:-0500
TZNAME:EST
DTSTART:20261101T060000
END:STANDARD
END:VTIMEZONE
BEGIN:VEVENT
DTSTART;TZID=America/New_York:20250508T193000
DTEND;TZID=America/New_York:20250508T203000
DTSTAMP:20260425T093825
CREATED:20250425T233427Z
LAST-MODIFIED:20250425T233427Z
UID:2313-1746732600-1746736200@centralcarolinana.org
SUMMARY:Celebration at A New Perspective
DESCRIPTION:Jay N. (4years) and Nick A. (27years) celebrating. Kevin H speaking. There will be homemade cake\, fellowship and eating following the meeting.
URL:https://centralcarolinana.org/event/celebration-at-a-new-perspective-3/
LOCATION:A New Perspective\, 735 Old Lexington Hwy\, Chapin\, SC\, 29036\, United States
END:VEVENT
BEGIN:VEVENT
DTSTART;TZID=America/New_York:20250510T160000
DTEND;TZID=America/New_York:20250510T170000
DTSTAMP:20260425T093825
CREATED:20250331T024936Z
LAST-MODIFIED:20250331T024936Z
UID:2268-1746892800-1746896400@centralcarolinana.org
SUMMARY:Welcome Home Business Meeting
DESCRIPTION:
URL:https://centralcarolinana.org/event/welcome-home-business-meeting-8/
LOCATION:Next Right Thing\, 1600 12th Street\, Cayce\, SC\, 29033\, United States
END:VEVENT
BEGIN:VEVENT
DTSTART;TZID=America/New_York:20250524T150000
DTEND;TZID=America/New_York:20250524T180000
DTSTAMP:20260425T093825
CREATED:20250402T022834Z
LAST-MODIFIED:20250425T234427Z
UID:2277-1748098800-1748109600@centralcarolinana.org
SUMMARY:Welcome Home Cookout Fundraiser
DESCRIPTION:Hamburgers and Hotdogs – $15 for adults\, $5 for children 10 and under
URL:https://centralcarolinana.org/event/welcome-home-cookout-fundraiser/
LOCATION:Cayce Riverwalk Pavilion\, 201 Naples Ave\, Cayce\, SC\, 29033\, United States
END:VEVENT
BEGIN:VEVENT
DTSTART;TZID=America/New_York:20250531T160000
DTEND;TZID=America/New_York:20250531T170000
DTSTAMP:20260425T093825
CREATED:20250331T025034Z
LAST-MODIFIED:20250331T025034Z
UID:2270-1748707200-1748710800@centralcarolinana.org
SUMMARY:Welcome Home Business Meeting
DESCRIPTION:
URL:https://centralcarolinana.org/event/welcome-home-business-meeting-9/
LOCATION:Next Right Thing\, 1600 12th Street\, Cayce\, SC\, 29033\, United States
END:VEVENT
END:VCALENDAR