BEGIN:VCALENDAR
VERSION:2.0
PRODID:-//CCANA - ECPv6.15.20//NONSGML v1.0//EN
CALSCALE:GREGORIAN
METHOD:PUBLISH
X-ORIGINAL-URL:https://centralcarolinana.org
X-WR-CALDESC:Events for CCANA
REFRESH-INTERVAL;VALUE=DURATION:PT1H
X-Robots-Tag:noindex
X-PUBLISHED-TTL:PT1H
BEGIN:VTIMEZONE
TZID:America/New_York
BEGIN:DAYLIGHT
TZOFFSETFROM:-0500
TZOFFSETTO:-0400
TZNAME:EDT
DTSTART:20230312T070000
END:DAYLIGHT
BEGIN:STANDARD
TZOFFSETFROM:-0400
TZOFFSETTO:-0500
TZNAME:EST
DTSTART:20231105T060000
END:STANDARD
BEGIN:DAYLIGHT
TZOFFSETFROM:-0500
TZOFFSETTO:-0400
TZNAME:EDT
DTSTART:20240310T070000
END:DAYLIGHT
BEGIN:STANDARD
TZOFFSETFROM:-0400
TZOFFSETTO:-0500
TZNAME:EST
DTSTART:20241103T060000
END:STANDARD
BEGIN:DAYLIGHT
TZOFFSETFROM:-0500
TZOFFSETTO:-0400
TZNAME:EDT
DTSTART:20250309T070000
END:DAYLIGHT
BEGIN:STANDARD
TZOFFSETFROM:-0400
TZOFFSETTO:-0500
TZNAME:EST
DTSTART:20251102T060000
END:STANDARD
END:VTIMEZONE
BEGIN:VEVENT
DTSTART;TZID=America/New_York:20241114T190000
DTEND;TZID=America/New_York:20241114T200000
DTSTAMP:20260425T175039
CREATED:20241113T222755Z
LAST-MODIFIED:20241113T222755Z
UID:2122-1731610800-1731614400@centralcarolinana.org
SUMMARY:Celebration at Ave Q
DESCRIPTION:Come help Liz E celebrate 11 years and Lisa L 10 years!
URL:https://centralcarolinana.org/event/celebration-at-ave-q-2/
LOCATION:Avenue Q\, 2827 Wheat Street Rm 215\, Columbia\, SC\, 29205\, United States
END:VEVENT
BEGIN:VEVENT
DTSTART;TZID=America/New_York:20241117T140000
DTEND;TZID=America/New_York:20241117T150000
DTSTAMP:20260425T175039
CREATED:20241024T145455Z
LAST-MODIFIED:20241024T145455Z
UID:2111-1731852000-1731855600@centralcarolinana.org
SUMMARY:Policy & Procedure Meeting
DESCRIPTION:
URL:https://centralcarolinana.org/event/policy-procedure-meeting/
LOCATION:Naturally High\, 5220 Clemson Ave\, Columbia\, 29204\, United States
END:VEVENT
BEGIN:VEVENT
DTSTART;TZID=America/New_York:20241117T150000
DTEND;TZID=America/New_York:20241117T170000
DTSTAMP:20260425T175039
CREATED:20241017T002236Z
LAST-MODIFIED:20241017T002236Z
UID:2102-1731855600-1731862800@centralcarolinana.org
SUMMARY:CCANA Area Meeting
DESCRIPTION:
URL:https://centralcarolinana.org/event/ccana-area-meeting/
LOCATION:Naturally High\, 5220 Clemson Ave\, Columbia\, 29204\, United States
END:VEVENT
BEGIN:VEVENT
DTSTART;TZID=America/New_York:20241123T160000
DTEND;TZID=America/New_York:20241123T170000
DTSTAMP:20260425T175039
CREATED:20241121T223448Z
LAST-MODIFIED:20241121T223448Z
UID:2124-1732377600-1732381200@centralcarolinana.org
SUMMARY:Welcome Home Convention Committee Meeting
DESCRIPTION:
URL:https://centralcarolinana.org/event/welcome-home-convention-committee-meeting/
LOCATION:Next Right Thing\, 1600 12th Street\, Cayce\, SC\, 29033\, United States
END:VEVENT
BEGIN:VEVENT
DTSTART;TZID=America/New_York:20241124T150000
DTEND;TZID=America/New_York:20241124T170000
DTSTAMP:20260425T175039
CREATED:20240903T001108Z
LAST-MODIFIED:20240903T001108Z
UID:2027-1732460400-1732467600@centralcarolinana.org
SUMMARY:Area Inventory
DESCRIPTION:
URL:https://centralcarolinana.org/event/area-inventory/
LOCATION:A New Perspective\, 735 Old Lexington Hwy\, Chapin\, SC\, 29036\, United States
END:VEVENT
BEGIN:VEVENT
DTSTART;TZID=America/New_York:20241125T180000
DTEND;TZID=America/New_York:20241125T190000
DTSTAMP:20260425T175039
CREATED:20241121T224518Z
LAST-MODIFIED:20241121T224518Z
UID:2128-1732557600-1732561200@centralcarolinana.org
SUMMARY:Web Committee Meeting
DESCRIPTION:
URL:https://centralcarolinana.org/event/web-committee-meeting-2/
LOCATION:Starbucks W. Columbia\, 2408 Augusta Rd.\, West Columbia\, SC\, 29169\, United States
END:VEVENT
BEGIN:VEVENT
DTSTART;TZID=America/New_York:20241128T140000
DTEND;TZID=America/New_York:20241128T170000
DTSTAMP:20260425T175039
CREATED:20241121T231341Z
LAST-MODIFIED:20241121T231341Z
UID:2137-1732802400-1732813200@centralcarolinana.org
SUMMARY:Thanksgiving Celebration!
DESCRIPTION:Naturally High will be holding a Thanksgiving celebration. Food will be provided!
URL:https://centralcarolinana.org/event/thanksgiving-celebration/
LOCATION:Naturally High\, 5220 Clemson Ave\, Columbia\, 29204\, United States
END:VEVENT
END:VCALENDAR