BEGIN:VCALENDAR
VERSION:2.0
PRODID:-//CCANA - ECPv6.15.20//NONSGML v1.0//EN
CALSCALE:GREGORIAN
METHOD:PUBLISH
X-ORIGINAL-URL:https://centralcarolinana.org
X-WR-CALDESC:Events for CCANA
REFRESH-INTERVAL;VALUE=DURATION:PT1H
X-Robots-Tag:noindex
X-PUBLISHED-TTL:PT1H
BEGIN:VTIMEZONE
TZID:America/New_York
BEGIN:DAYLIGHT
TZOFFSETFROM:-0500
TZOFFSETTO:-0400
TZNAME:EDT
DTSTART:20230312T070000
END:DAYLIGHT
BEGIN:STANDARD
TZOFFSETFROM:-0400
TZOFFSETTO:-0500
TZNAME:EST
DTSTART:20231105T060000
END:STANDARD
BEGIN:DAYLIGHT
TZOFFSETFROM:-0500
TZOFFSETTO:-0400
TZNAME:EDT
DTSTART:20240310T070000
END:DAYLIGHT
BEGIN:STANDARD
TZOFFSETFROM:-0400
TZOFFSETTO:-0500
TZNAME:EST
DTSTART:20241103T060000
END:STANDARD
BEGIN:DAYLIGHT
TZOFFSETFROM:-0500
TZOFFSETTO:-0400
TZNAME:EDT
DTSTART:20250309T070000
END:DAYLIGHT
BEGIN:STANDARD
TZOFFSETFROM:-0400
TZOFFSETTO:-0500
TZNAME:EST
DTSTART:20251102T060000
END:STANDARD
END:VTIMEZONE
BEGIN:VEVENT
DTSTART;TZID=America/New_York:20241010T193000
DTEND;TZID=America/New_York:20241010T203000
DTSTAMP:20260425T190512
CREATED:20240926T212119Z
LAST-MODIFIED:20240926T212119Z
UID:2074-1728588600-1728592200@centralcarolinana.org
SUMMARY:Rob G Celebrating 3 Years!
DESCRIPTION:Come help Rob G. celebrate 3 Years!  Harold B will be speaking.
URL:https://centralcarolinana.org/event/rob-g-celebrating-3-years/
LOCATION:A New Perspective\, 735 Old Lexington Hwy\, Chapin\, SC\, 29036\, United States
END:VEVENT
BEGIN:VEVENT
DTSTART;TZID=America/New_York:20241020T160000
DTEND;TZID=America/New_York:20241020T170000
DTSTAMP:20260425T190512
CREATED:20241017T001641Z
LAST-MODIFIED:20241017T001641Z
UID:2098-1729440000-1729443600@centralcarolinana.org
SUMMARY:Web Subcommittee Meeting
DESCRIPTION:
URL:https://centralcarolinana.org/event/web-subcommittee-meeting-2/
LOCATION:Starbucks W. Columbia\, 2408 Augusta Rd.\, West Columbia\, SC\, 29169\, United States
END:VEVENT
BEGIN:VEVENT
DTSTART;TZID=America/New_York:20241023T183000
DTEND;TZID=America/New_York:20241023T193000
DTSTAMP:20260425T190512
CREATED:20240926T233329Z
LAST-MODIFIED:20240926T233329Z
UID:2079-1729708200-1729711800@centralcarolinana.org
SUMMARY:Activities Subcommittee Meeting
DESCRIPTION:
URL:https://centralcarolinana.org/event/activities-subcommittee-meeting-2/
LOCATION:Starbucks 2505\, 2505 Sunset Blvd\, West Columbia\, SC\, 29169\, United States
END:VEVENT
BEGIN:VEVENT
DTSTART;TZID=America/New_York:20241027T140000
DTEND;TZID=America/New_York:20241027T150000
DTSTAMP:20260425T190512
CREATED:20241024T145753Z
LAST-MODIFIED:20241024T145753Z
UID:2113-1730037600-1730041200@centralcarolinana.org
SUMMARY:H&I Orientation
DESCRIPTION:
URL:https://centralcarolinana.org/event/hi-orientation-3/
LOCATION:Naturally High\, 5220 Clemson Ave\, Columbia\, 29204\, United States
END:VEVENT
BEGIN:VEVENT
DTSTART;TZID=America/New_York:20241027T140000
DTEND;TZID=America/New_York:20241027T153000
DTSTAMP:20260425T190512
CREATED:20241024T150023Z
LAST-MODIFIED:20241024T150023Z
UID:2117-1730037600-1730043000@centralcarolinana.org
SUMMARY:Phoneline Volunteer Orientation
DESCRIPTION:Via Zoom: Zoom ID: 820 1263 8780 – Passcode 642429
URL:https://centralcarolinana.org/event/phoneline-volunteer-orientation/
LOCATION:SC
END:VEVENT
BEGIN:VEVENT
DTSTART;TZID=America/New_York:20241027T150000
DTEND;TZID=America/New_York:20241027T160000
DTSTAMP:20260425T190512
CREATED:20241024T145840Z
LAST-MODIFIED:20241024T145840Z
UID:2115-1730041200-1730044800@centralcarolinana.org
SUMMARY:H&I Subcommittee Meeting
DESCRIPTION:
URL:https://centralcarolinana.org/event/hi-subcommittee-meeting-4/
LOCATION:Naturally High\, 5220 Clemson Ave\, Columbia\, 29204\, United States
END:VEVENT
BEGIN:VEVENT
DTSTART;TZID=America/New_York:20241028T183000
DTEND;TZID=America/New_York:20241028T193000
DTSTAMP:20260425T190512
CREATED:20241017T001809Z
LAST-MODIFIED:20241017T001809Z
UID:2100-1730140200-1730143800@centralcarolinana.org
SUMMARY:PR Subcommittee Meeting
DESCRIPTION:
URL:https://centralcarolinana.org/event/pr-subcommittee-meeting-2/
LOCATION:Cayce Starbucks\, 727 Knox Abbott Drive\, Cayce\, SC\, 29033\, United States
END:VEVENT
BEGIN:VEVENT
DTSTART;TZID=America/New_York:20241029T183000
DTEND;TZID=America/New_York:20241029T193000
DTSTAMP:20260425T190512
CREATED:20240927T000502Z
LAST-MODIFIED:20240927T000502Z
UID:2082-1730226600-1730230200@centralcarolinana.org
SUMMARY:Ladies Night Celebration
DESCRIPTION:Come help Tiffany W. celebrate 4yrs and Sheena celebrate 3yrs!!! Cake will be provided.
URL:https://centralcarolinana.org/event/ladies-night-celebration-2/
LOCATION:Ladies’ Night\, 1000 B Ave.\, West Columbia\, SC\, 29169\, United States
END:VEVENT
END:VCALENDAR