BEGIN:VCALENDAR
VERSION:2.0
PRODID:-//CCANA - ECPv6.15.20//NONSGML v1.0//EN
CALSCALE:GREGORIAN
METHOD:PUBLISH
X-WR-CALNAME:CCANA
X-ORIGINAL-URL:https://centralcarolinana.org
X-WR-CALDESC:Events for CCANA
REFRESH-INTERVAL;VALUE=DURATION:PT1H
X-Robots-Tag:noindex
X-PUBLISHED-TTL:PT1H
BEGIN:VTIMEZONE
TZID:America/New_York
BEGIN:DAYLIGHT
TZOFFSETFROM:-0500
TZOFFSETTO:-0400
TZNAME:EDT
DTSTART:20230312T070000
END:DAYLIGHT
BEGIN:STANDARD
TZOFFSETFROM:-0400
TZOFFSETTO:-0500
TZNAME:EST
DTSTART:20231105T060000
END:STANDARD
BEGIN:DAYLIGHT
TZOFFSETFROM:-0500
TZOFFSETTO:-0400
TZNAME:EDT
DTSTART:20240310T070000
END:DAYLIGHT
BEGIN:STANDARD
TZOFFSETFROM:-0400
TZOFFSETTO:-0500
TZNAME:EST
DTSTART:20241103T060000
END:STANDARD
BEGIN:DAYLIGHT
TZOFFSETFROM:-0500
TZOFFSETTO:-0400
TZNAME:EDT
DTSTART:20250309T070000
END:DAYLIGHT
BEGIN:STANDARD
TZOFFSETFROM:-0400
TZOFFSETTO:-0500
TZNAME:EST
DTSTART:20251102T060000
END:STANDARD
END:VTIMEZONE
BEGIN:VEVENT
DTSTART;TZID=America/New_York:20240601T180000
DTEND;TZID=America/New_York:20240601T190000
DTSTAMP:20260426T001919
CREATED:20240527T150722Z
LAST-MODIFIED:20240527T150722Z
UID:1879-1717264800-1717268400@centralcarolinana.org
SUMMARY:Welcome Home Business Meeting
DESCRIPTION:
URL:https://centralcarolinana.org/event/welcome-home-business-meeting-5/
LOCATION:Starbucks W. Columbia\, 2408 Augusta Rd.\, West Columbia\, SC\, 29169\, United States
END:VEVENT
BEGIN:VEVENT
DTSTART;TZID=America/New_York:20240602T100000
DTEND;TZID=America/New_York:20240602T180000
DTSTAMP:20260426T001919
CREATED:20240523T231444Z
LAST-MODIFIED:20240523T231444Z
UID:1873-1717322400-1717351200@centralcarolinana.org
SUMMARY:Dreher Island Cookout
DESCRIPTION:Shelter 11
URL:https://centralcarolinana.org/event/dreher-island-cookout/
LOCATION:Dreher Island\, 3677 State Park Rd.\, Prosperity\, SC\, 29127\, United States
END:VEVENT
BEGIN:VEVENT
DTSTART;TZID=America/New_York:20240609T150000
DTEND;TZID=America/New_York:20240609T170000
DTSTAMP:20260426T001919
CREATED:20240608T221937Z
LAST-MODIFIED:20240608T221937Z
UID:1908-1717945200-1717952400@centralcarolinana.org
SUMMARY:ASC Meeting
DESCRIPTION:Come check out our Area Service Committee Meeting.  Everyone is welcome.
URL:https://centralcarolinana.org/event/asc-meeting-2/
LOCATION:Next Right Thing\, 1600 12th Street\, Cayce\, SC\, 29033\, United States
END:VEVENT
BEGIN:VEVENT
DTSTART;TZID=America/New_York:20240629T180000
DTEND;TZID=America/New_York:20240629T210000
DTSTAMP:20260426T001919
CREATED:20240608T120718Z
LAST-MODIFIED:20240609T175856Z
UID:1895-1719684000-1719694800@centralcarolinana.org
SUMMARY:Tacos & Spades!
DESCRIPTION:Welcome Home is hosting a fundraiser for our convention. Come out to help support-and have some fun and fellowship while you’re at it! Spades start at 6:30pm. $5 to play and $10 to play and eat.
URL:https://centralcarolinana.org/event/tacos-spades/
LOCATION:Hope Hole\, 1600 12th Street\, Cayce\, SC\, 29033\, United States
ATTACH;FMTTYPE=application/pdf:https://centralcarolinana.org/wp-content/uploads/2024/06/Tacos-Spades-1.pdf
END:VEVENT
END:VCALENDAR