BEGIN:VCALENDAR
VERSION:2.0
PRODID:-//CCANA - ECPv6.15.20//NONSGML v1.0//EN
CALSCALE:GREGORIAN
METHOD:PUBLISH
X-ORIGINAL-URL:https://centralcarolinana.org
X-WR-CALDESC:Events for CCANA
REFRESH-INTERVAL;VALUE=DURATION:PT1H
X-Robots-Tag:noindex
X-PUBLISHED-TTL:PT1H
BEGIN:VTIMEZONE
TZID:America/New_York
BEGIN:DAYLIGHT
TZOFFSETFROM:-0500
TZOFFSETTO:-0400
TZNAME:EDT
DTSTART:20240310T070000
END:DAYLIGHT
BEGIN:STANDARD
TZOFFSETFROM:-0400
TZOFFSETTO:-0500
TZNAME:EST
DTSTART:20241103T060000
END:STANDARD
BEGIN:DAYLIGHT
TZOFFSETFROM:-0500
TZOFFSETTO:-0400
TZNAME:EDT
DTSTART:20250309T070000
END:DAYLIGHT
BEGIN:STANDARD
TZOFFSETFROM:-0400
TZOFFSETTO:-0500
TZNAME:EST
DTSTART:20251102T060000
END:STANDARD
BEGIN:DAYLIGHT
TZOFFSETFROM:-0500
TZOFFSETTO:-0400
TZNAME:EDT
DTSTART:20260308T070000
END:DAYLIGHT
BEGIN:STANDARD
TZOFFSETFROM:-0400
TZOFFSETTO:-0500
TZNAME:EST
DTSTART:20261101T060000
END:STANDARD
END:VTIMEZONE
BEGIN:VEVENT
DTSTART;TZID=America/New_York:20251026T190000
DTEND;TZID=America/New_York:20251026T200000
DTSTAMP:20260423T201005
CREATED:20251025T160235Z
LAST-MODIFIED:20251025T160235Z
UID:2570-1761505200-1761508800@centralcarolinana.org
SUMMARY:Celebration at Worth the Ride
DESCRIPTION:Bryan B – 1 year \nMickey O speaking
URL:https://centralcarolinana.org/event/celebration-at-worth-the-ride/
LOCATION:Worth the Ride\, 1112 Hummingbird Lane\, West Columbia\, SC\, 29169\, United States
ATTACH;FMTTYPE=image/jpeg:https://centralcarolinana.org/wp-content/uploads/2025/10/worth-the-ride-celebration-oct2025.jpg
END:VEVENT
BEGIN:VEVENT
DTSTART;TZID=America/New_York:20251026T141500
DTEND;TZID=America/New_York:20251026T160000
DTSTAMP:20260423T201005
CREATED:20251025T155237Z
LAST-MODIFIED:20251025T155237Z
UID:2558-1761488100-1761494400@centralcarolinana.org
SUMMARY:Hospitals and Institutions Subcommittee Meeting
DESCRIPTION:2:15pm Orientation \n3:00pm Meeting
URL:https://centralcarolinana.org/event/hospitals-and-institutions-subcommittee-meeting/
LOCATION:Naturally High\, 5220 Clemson Ave\, Columbia\, 29204\, United States
ATTACH;FMTTYPE=image/jpeg:https://centralcarolinana.org/wp-content/uploads/2025/10/h_and_i_meeting-scaled.jpg
END:VEVENT
BEGIN:VEVENT
DTSTART;TZID=America/New_York:20251025T180000
DTEND;TZID=America/New_York:20251025T220000
DTSTAMP:20260423T201005
CREATED:20250831T002152Z
LAST-MODIFIED:20251002T172631Z
UID:2450-1761415200-1761429600@centralcarolinana.org
SUMMARY:Frightfully Free Halloween Dance
DESCRIPTION:$10 suggested donation\, no addict turned away. Music\, foods\, and drinks. Costume contest and games. Bring a dish if you wish.
URL:https://centralcarolinana.org/event/frightfully-free-halloween-dance/
LOCATION:Hope Hole\, 1600 12th Street\, Cayce\, SC\, 29033\, United States
ATTACH;FMTTYPE=image/jpeg:https://centralcarolinana.org/wp-content/uploads/2025/08/frightfully_free_halloween_dance_2025.jpg
END:VEVENT
BEGIN:VEVENT
DTSTART;TZID=America/New_York:20251025T173000
DTEND;TZID=America/New_York:20251025T193000
DTSTAMP:20260423T201005
CREATED:20251025T160550Z
LAST-MODIFIED:20251025T160550Z
UID:2573-1761413400-1761420600@centralcarolinana.org
SUMMARY:Celebration at Better Together
DESCRIPTION:Celebrating 2 years with Anthony M! \nBlake S will be speaking \nBring a dish if you wish. Eat at 5:30\, Meeting at 6:30
URL:https://centralcarolinana.org/event/celebration-at-better-together-3/
LOCATION:Better Together\, 410 Harbison Blvd.\, Columbia\, SC\, 29212\, United States
ATTACH;FMTTYPE=image/jpeg:https://centralcarolinana.org/wp-content/uploads/2025/10/better-together-celebration-oct25.jpg
END:VEVENT
BEGIN:VEVENT
DTSTART;TZID=America/New_York:20251018T160000
DTEND;TZID=America/New_York:20251018T170000
DTSTAMP:20260423T201005
CREATED:20250910T122318Z
LAST-MODIFIED:20250910T122318Z
UID:2469-1760803200-1760806800@centralcarolinana.org
SUMMARY:Welcome Home XXIX Subcommittee Meeting
DESCRIPTION:In rear of church
URL:https://centralcarolinana.org/event/welcome-home-xxix-subcommittee-meeting/
LOCATION:Next Right Thing\, 1600 12th Street\, Cayce\, SC\, 29033\, United States
ATTACH;FMTTYPE=image/jpeg:https://centralcarolinana.org/wp-content/uploads/2025/09/whxxixmeeting.jpg
END:VEVENT
BEGIN:VEVENT
DTSTART;TZID=America/New_York:20251018T140000
DTEND;TZID=America/New_York:20251018T150000
DTSTAMP:20260423T201005
CREATED:20251002T171712Z
LAST-MODIFIED:20251002T171712Z
UID:2527-1760796000-1760799600@centralcarolinana.org
SUMMARY:Activities Subcommittee Meeting
DESCRIPTION:
URL:https://centralcarolinana.org/event/activities-subcommittee-meeting-4/
LOCATION:Starbucks 2505\, 2505 Sunset Blvd\, West Columbia\, SC\, 29169\, United States
ATTACH;FMTTYPE=image/jpeg:https://centralcarolinana.org/wp-content/uploads/2025/10/activities_meeting_oct18_2025-scaled.jpeg
END:VEVENT
BEGIN:VEVENT
DTSTART;TZID=America/New_York:20251012T150000
DTEND;TZID=America/New_York:20251012T170000
DTSTAMP:20260423T201005
CREATED:20250927T205323Z
LAST-MODIFIED:20251002T171340Z
UID:2522-1760281200-1760288400@centralcarolinana.org
SUMMARY:Area Service Committee Meeting
DESCRIPTION:
URL:https://centralcarolinana.org/event/area-service-committee-meeting-5/
LOCATION:Next Right Thing\, 1600 12th Street\, Cayce\, SC\, 29033\, United States
ATTACH;FMTTYPE=image/jpeg:https://centralcarolinana.org/wp-content/uploads/2025/09/oct25-ccana-area-meeting-scaled.jpeg
END:VEVENT
BEGIN:VEVENT
DTSTART;TZID=America/New_York:20251012T140000
DTEND;TZID=America/New_York:20251012T150000
DTSTAMP:20260423T201005
CREATED:20250927T205450Z
LAST-MODIFIED:20251002T171945Z
UID:2524-1760277600-1760281200@centralcarolinana.org
SUMMARY:Policy and Procedure Subcommittee Meeting
DESCRIPTION:
URL:https://centralcarolinana.org/event/policy-and-procedure-subcommittee-meeting-2/
LOCATION:Next Right Thing\, 1600 12th Street\, Cayce\, SC\, 29033\, United States
ATTACH;FMTTYPE=image/jpeg:https://centralcarolinana.org/wp-content/uploads/2025/09/pp_meeting_oct12_2025-scaled.jpeg
END:VEVENT
BEGIN:VEVENT
DTSTART;TZID=America/New_York:20251011T173000
DTEND;TZID=America/New_York:20251011T193000
DTSTAMP:20260423T201005
CREATED:20250927T193533Z
LAST-MODIFIED:20250927T193533Z
UID:2514-1760203800-1760211000@centralcarolinana.org
SUMMARY:Better Together Anniversary Celebration
DESCRIPTION:Celebrating 1 year anniversary of the Better Together meeting. Food at 5:30\, speaker at 6:30. Hot dogs and hamburgers will be served; bring your favorite dish and a chair. Grace United Methodist Church\, Under the pavilion.
URL:https://centralcarolinana.org/event/better-together-anniversary-celebration/
LOCATION:Better Together\, 410 Harbison Blvd.\, Columbia\, SC\, 29212\, United States
ATTACH;FMTTYPE=image/jpeg:https://centralcarolinana.org/wp-content/uploads/2025/09/better-together-1-year-anniversary.jpg
END:VEVENT
BEGIN:VEVENT
DTSTART;TZID=America/New_York:20251011T130000
DTEND;TZID=America/New_York:20251011T180000
DTSTAMP:20260423T201005
CREATED:20251002T172309Z
LAST-MODIFIED:20251002T172309Z
UID:2531-1760187600-1760205600@centralcarolinana.org
SUMMARY:White Out Day Party
DESCRIPTION:Presented by RAW XXI. Featuring a dynamic fashion show. Food will be served. Tickets $20\, contact fundraising chair Alethea L (see flyer for number)
URL:https://centralcarolinana.org/event/white-out-day-party/
LOCATION:Forest Lake Presbyterian Church\, 6500 N Trenholm Road\, Columbia\, SC\, 29206\, United States
ATTACH;FMTTYPE=image/jpeg:https://centralcarolinana.org/wp-content/uploads/2025/10/rawxxi_whiteoutdayparty_2025.jpg
END:VEVENT
BEGIN:VEVENT
DTSTART;TZID=America/New_York:20250927T163000
DTEND;TZID=America/New_York:20250927T173000
DTSTAMP:20260423T201005
CREATED:20250923T183033Z
LAST-MODIFIED:20250923T183108Z
UID:2499-1758990600-1758994200@centralcarolinana.org
SUMMARY:Web Subcommittee Meeting
DESCRIPTION:
URL:https://centralcarolinana.org/event/web-subcommittee-meeting-3/
LOCATION:Starbucks 2505\, 2505 Sunset Blvd\, West Columbia\, SC\, 29169\, United States
END:VEVENT
BEGIN:VEVENT
DTSTART;TZID=America/New_York:20250927T150000
DTEND;TZID=America/New_York:20250927T160000
DTSTAMP:20260423T201005
CREATED:20250905T164846Z
LAST-MODIFIED:20250905T164846Z
UID:2463-1758985200-1758988800@centralcarolinana.org
SUMMARY:Activities Subcommittee Meeting
DESCRIPTION:
URL:https://centralcarolinana.org/event/activities-subcommittee-meeting-3/
LOCATION:Starbucks 2505\, 2505 Sunset Blvd\, West Columbia\, SC\, 29169\, United States
ATTACH;FMTTYPE=image/jpeg:https://centralcarolinana.org/wp-content/uploads/2025/09/activities_subcommittee_sept27_2025.jpg
END:VEVENT
BEGIN:VEVENT
DTSTART;TZID=America/New_York:20250925T173000
DTEND;TZID=America/New_York:20250925T183000
DTSTAMP:20260423T201005
CREATED:20250910T121919Z
LAST-MODIFIED:20250910T121919Z
UID:2466-1758821400-1758825000@centralcarolinana.org
SUMMARY:Celebration at Serenity at Sunset
DESCRIPTION:Celebrants: Elisa 18 months\, Ali 6 years\, Paula S 38 years\, Barbara. Speaker Eric G \nPlease use entrance at the rear of church. Food and fellowship to follow. Bring your favorite dish if you wish.
URL:https://centralcarolinana.org/event/celebration-at-serenity-at-sunset-5/
LOCATION:Serenity at Sunset\, 3215 Platt Springs Rd\, West Columbia\, SC\, 29170\, United States
ATTACH;FMTTYPE=image/jpeg:https://centralcarolinana.org/wp-content/uploads/2025/09/serenity_at_sunset_celebration.jpg
END:VEVENT
BEGIN:VEVENT
DTSTART;TZID=America/New_York:20250919T120000
DTEND;TZID=America/New_York:20250921T120000
DTSTAMP:20260423T201005
CREATED:20240609T181752Z
LAST-MODIFIED:20250914T222053Z
UID:1916-1758283200-1758456000@centralcarolinana.org
SUMMARY:Recovery Under the Stars Campout
DESCRIPTION:Come enjoy a weekend full of food\, fun\, fellowship\, and recovery!  Registration covers all of your food for the weekend\,  campsite\, and activities. \nCashApp: $RUTSCCANA \nVenmo: @RecoveryUnderTheStars
URL:https://centralcarolinana.org/event/recovery-under-the-stars-campout/
LOCATION:Poinsett State Park\, 6660 Poinsett Park Road\, Wedgefield\, SC\, 29168\, United States
ATTACH;FMTTYPE=application/pdf:https://centralcarolinana.org/wp-content/uploads/2024/06/Ruts-2025-2.pdf
END:VEVENT
BEGIN:VEVENT
DTSTART;TZID=America/New_York:20250914T150000
DTEND;TZID=America/New_York:20250914T170000
DTSTAMP:20260423T201005
CREATED:20250831T000320Z
LAST-MODIFIED:20250831T000320Z
UID:2429-1757862000-1757869200@centralcarolinana.org
SUMMARY:Area Service Committee Meeting
DESCRIPTION:
URL:https://centralcarolinana.org/event/area-service-committee-meeting-4/
LOCATION:How it Works\, 910 Cook Rd\, Orangeburg\, SC\, 29118\, United States
END:VEVENT
BEGIN:VEVENT
DTSTART;TZID=America/New_York:20250914T140000
DTEND;TZID=America/New_York:20250914T150000
DTSTAMP:20260423T201005
CREATED:20250831T000357Z
LAST-MODIFIED:20250831T000357Z
UID:2431-1757858400-1757862000@centralcarolinana.org
SUMMARY:Policies and Procedures Subcommittee Meeting
DESCRIPTION:
URL:https://centralcarolinana.org/event/policies-and-procedures-subcommittee-meeting/
LOCATION:How it Works\, 910 Cook Rd\, Orangeburg\, SC\, 29118\, United States
END:VEVENT
BEGIN:VEVENT
DTSTART;TZID=America/New_York:20250907T180000
DTEND;TZID=America/New_York:20250907T190000
DTSTAMP:20260423T201005
CREATED:20250831T001532Z
LAST-MODIFIED:20250831T001532Z
UID:2448-1757268000-1757271600@centralcarolinana.org
SUMMARY:Celebration at LeGrand Recovery
DESCRIPTION:Ashley M – 2 years; Stephanie R – 6 years. Ali L speaking.
URL:https://centralcarolinana.org/event/celebration-at-legrand-recovery/
LOCATION:LeGrand Recovery\, 1801 LeGrand Rd\, Columbia\, SC\, 29223\, United States
END:VEVENT
BEGIN:VEVENT
DTSTART;TZID=America/New_York:20250907T160000
DTEND;TZID=America/New_York:20250907T170000
DTSTAMP:20260423T201005
CREATED:20250831T001057Z
LAST-MODIFIED:20250831T001057Z
UID:2441-1757260800-1757264400@centralcarolinana.org
SUMMARY:RUTS Campout Subcommittee Meeting
DESCRIPTION:
URL:https://centralcarolinana.org/event/ruts-campout-subcommittee-meeting/
LOCATION:Starbucks Irmo\, 7688 Broad River Rd\, Irmo\, SC\, 29063\, United States
END:VEVENT
BEGIN:VEVENT
DTSTART;TZID=America/New_York:20250906T183000
DTEND;TZID=America/New_York:20250906T193000
DTSTAMP:20260423T201005
CREATED:20250831T000653Z
LAST-MODIFIED:20250905T164434Z
UID:2433-1757183400-1757187000@centralcarolinana.org
SUMMARY:Celebration at Next Right Thing
DESCRIPTION:Jane H – 11 years; Joy T – 40 years
URL:https://centralcarolinana.org/event/celebration-at-next-right-thing-2/
LOCATION:Next Right Thing\, 1600 12th Street\, Cayce\, SC\, 29033\, United States
END:VEVENT
BEGIN:VEVENT
DTSTART;TZID=America/New_York:20250901T110000
DTEND;TZID=America/New_York:20250901T170000
DTSTAMP:20260423T201005
CREATED:20250831T003045Z
LAST-MODIFIED:20250831T003045Z
UID:2454-1756724400-1756746000@centralcarolinana.org
SUMMARY:Labor Day Cookout
DESCRIPTION:Food – Fellowship – Lake – Fun
URL:https://centralcarolinana.org/event/labor-day-cookout/
LOCATION:Dreher Island\, 3677 State Park Rd.\, Prosperity\, SC\, 29127\, United States
ATTACH;FMTTYPE=image/jpeg:https://centralcarolinana.org/wp-content/uploads/2025/08/labordaycookout2025.jpg
END:VEVENT
BEGIN:VEVENT
DTSTART;VALUE=DATE:20250822
DTEND;VALUE=DATE:20250824
DTSTAMP:20260423T201005
CREATED:20250630T175820Z
LAST-MODIFIED:20250630T182817Z
UID:2396-1755820800-1755993599@centralcarolinana.org
SUMMARY:Welcome Home XXVIII
DESCRIPTION:Two Lives; One Lifetime. Pre-registration $25 through August 1\, registration at the door $35. Register online by clicking the event title. \nPlease enable JavaScript in your browser to complete this form.Name *		\n			Address Donation Name\n			\n		\n		Phone Number *Email Address *Donation for Newcomers ($)Submit
URL:https://centralcarolinana.org/event/welcome-home-xxviii/
LOCATION:Brookland Baptist Conference Center\, 1066 Sunset Blvd\, West Columbia\, SC\, 29169\, United States
END:VEVENT
BEGIN:VEVENT
DTSTART;TZID=America/New_York:20250810T150000
DTEND;TZID=America/New_York:20250810T170000
DTSTAMP:20260423T201005
CREATED:20250806T224552Z
LAST-MODIFIED:20250806T224552Z
UID:2412-1754838000-1754845200@centralcarolinana.org
SUMMARY:CCANA Area Meeting
DESCRIPTION:
URL:https://centralcarolinana.org/event/ccana-area-meeting-4/
LOCATION:Next Right Thing\, 1600 12th Street\, Cayce\, SC\, 29033\, United States
END:VEVENT
BEGIN:VEVENT
DTSTART;TZID=America/New_York:20250810T140000
DTEND;TZID=America/New_York:20250810T150000
DTSTAMP:20260423T201005
CREATED:20250806T224702Z
LAST-MODIFIED:20250806T225304Z
UID:2414-1754834400-1754838000@centralcarolinana.org
SUMMARY:Policy and Procedure Subcommittee Meeting
DESCRIPTION:
URL:https://centralcarolinana.org/event/policy-and-procedure-subcommittee-meeting/
LOCATION:Next Right Thing\, 1600 12th Street\, Cayce\, SC\, 29033\, United States
END:VEVENT
BEGIN:VEVENT
DTSTART;TZID=America/New_York:20250809T150000
DTEND;TZID=America/New_York:20250809T180000
DTSTAMP:20260423T201005
CREATED:20250723T231648Z
LAST-MODIFIED:20250723T231648Z
UID:2407-1754751600-1754762400@centralcarolinana.org
SUMMARY:H.O.W. It Works 5 Year Celebration
DESCRIPTION:Celebrating 5 years of carrying the message. Speakers\, food\, and fellowship.
URL:https://centralcarolinana.org/event/h-o-w-it-works-5-year-celebration/
LOCATION:How it Works\, 910 Cook Rd\, Orangeburg\, SC\, 29118\, United States
END:VEVENT
BEGIN:VEVENT
DTSTART;TZID=America/New_York:20250720T160000
DTEND;TZID=America/New_York:20250720T170000
DTSTAMP:20260423T201005
CREATED:20250620T162528Z
LAST-MODIFIED:20250620T162528Z
UID:2377-1753027200-1753030800@centralcarolinana.org
SUMMARY:RUTS Subcommittee Meeting
DESCRIPTION:Recovery Under the Stars campout business meeting
URL:https://centralcarolinana.org/event/ruts-subcommittee-meeting/
LOCATION:Starbucks W. Columbia\, 2408 Augusta Rd.\, West Columbia\, SC\, 29169\, United States
END:VEVENT
BEGIN:VEVENT
DTSTART;TZID=America/New_York:20250713T150000
DTEND;TZID=America/New_York:20250713T170000
DTSTAMP:20260423T201005
CREATED:20250620T163205Z
LAST-MODIFIED:20250620T163205Z
UID:2379-1752418800-1752426000@centralcarolinana.org
SUMMARY:Area Service Committee Meeting
DESCRIPTION:
URL:https://centralcarolinana.org/event/area-service-committee-meeting-3/
LOCATION:Hope Hole\, 1600 12th Street\, Cayce\, SC\, 29033\, United States
END:VEVENT
BEGIN:VEVENT
DTSTART;TZID=America/New_York:20250713T140000
DTEND;TZID=America/New_York:20250713T150000
DTSTAMP:20260423T201005
CREATED:20250624T225439Z
LAST-MODIFIED:20250624T225439Z
UID:2387-1752415200-1752418800@centralcarolinana.org
SUMMARY:P&P Subcommittee Meeting
DESCRIPTION:Policy and Procedures
URL:https://centralcarolinana.org/event/pp-subcommittee-meeting-2/
LOCATION:Hope Hole\, 1600 12th Street\, Cayce\, SC\, 29033\, United States
END:VEVENT
BEGIN:VEVENT
DTSTART;TZID=America/New_York:20250712T160000
DTEND;TZID=America/New_York:20250712T170000
DTSTAMP:20260423T201005
CREATED:20250630T174528Z
LAST-MODIFIED:20250630T174528Z
UID:2391-1752336000-1752339600@centralcarolinana.org
SUMMARY:Welcome Home Subcommittee Meeting
DESCRIPTION:
URL:https://centralcarolinana.org/event/welcome-home-subcommittee-meeting-2/
LOCATION:Next Right Thing\, 1600 12th Street\, Cayce\, SC\, 29033\, United States
END:VEVENT
BEGIN:VEVENT
DTSTART;TZID=America/New_York:20250629T150000
DTEND;TZID=America/New_York:20250629T160000
DTSTAMP:20260423T201005
CREATED:20250620T162008Z
LAST-MODIFIED:20250620T162137Z
UID:2373-1751209200-1751212800@centralcarolinana.org
SUMMARY:H&I Subcommittee Meeting
DESCRIPTION:Orientation starts at 2:15pm before the meeting.
URL:https://centralcarolinana.org/event/hi-subcommittee-meeting-6/
LOCATION:Naturally High\, 5220 Clemson Ave\, Columbia\, 29204\, United States
END:VEVENT
BEGIN:VEVENT
DTSTART;TZID=America/New_York:20250628T180000
DTEND;TZID=America/New_York:20250628T210000
DTSTAMP:20260423T201005
CREATED:20250604T194527Z
LAST-MODIFIED:20250604T194527Z
UID:2366-1751133600-1751144400@centralcarolinana.org
SUMMARY:Welcome Home Spaghetti Fundraiser
DESCRIPTION:Join us for a saucy night of supporting the 28th annual Welcome Home Convention. Dinner\, games\, good company. $15 Adults\, $5 Children 10 & under.
URL:https://centralcarolinana.org/event/welcome-home-spaghetti-fundraiser/
LOCATION:Next Right Thing\, 1600 12th Street\, Cayce\, SC\, 29033\, United States
END:VEVENT
END:VCALENDAR