BEGIN:VCALENDAR
VERSION:2.0
PRODID:-//CCANA - ECPv6.15.20//NONSGML v1.0//EN
CALSCALE:GREGORIAN
METHOD:PUBLISH
X-ORIGINAL-URL:https://centralcarolinana.org
X-WR-CALDESC:Events for CCANA
REFRESH-INTERVAL;VALUE=DURATION:PT1H
X-Robots-Tag:noindex
X-PUBLISHED-TTL:PT1H
BEGIN:VTIMEZONE
TZID:America/New_York
BEGIN:DAYLIGHT
TZOFFSETFROM:-0500
TZOFFSETTO:-0400
TZNAME:EDT
DTSTART:20240310T070000
END:DAYLIGHT
BEGIN:STANDARD
TZOFFSETFROM:-0400
TZOFFSETTO:-0500
TZNAME:EST
DTSTART:20241103T060000
END:STANDARD
BEGIN:DAYLIGHT
TZOFFSETFROM:-0500
TZOFFSETTO:-0400
TZNAME:EDT
DTSTART:20250309T070000
END:DAYLIGHT
BEGIN:STANDARD
TZOFFSETFROM:-0400
TZOFFSETTO:-0500
TZNAME:EST
DTSTART:20251102T060000
END:STANDARD
BEGIN:DAYLIGHT
TZOFFSETFROM:-0500
TZOFFSETTO:-0400
TZNAME:EDT
DTSTART:20260308T070000
END:DAYLIGHT
BEGIN:STANDARD
TZOFFSETFROM:-0400
TZOFFSETTO:-0500
TZNAME:EST
DTSTART:20261101T060000
END:STANDARD
BEGIN:DAYLIGHT
TZOFFSETFROM:-0500
TZOFFSETTO:-0400
TZNAME:EDT
DTSTART:20270314T070000
END:DAYLIGHT
BEGIN:STANDARD
TZOFFSETFROM:-0400
TZOFFSETTO:-0500
TZNAME:EST
DTSTART:20271107T060000
END:STANDARD
END:VTIMEZONE
BEGIN:VEVENT
DTSTART;TZID=America/New_York:20260111T150000
DTEND;TZID=America/New_York:20260111T170000
DTSTAMP:20260423T162029
CREATED:20251116T180604Z
LAST-MODIFIED:20251116T180604Z
UID:2622-1768143600-1768150800@centralcarolinana.org
SUMMARY:Area Service Committee Meeting
DESCRIPTION:
URL:https://centralcarolinana.org/event/area-service-committee-meeting-7/
LOCATION:SC
END:VEVENT
BEGIN:VEVENT
DTSTART;TZID=America/New_York:20260111T140000
DTEND;TZID=America/New_York:20260111T150000
DTSTAMP:20260423T162029
CREATED:20251116T180729Z
LAST-MODIFIED:20251116T180729Z
UID:2624-1768140000-1768143600@centralcarolinana.org
SUMMARY:Policy and Procedures Subcommittee Meeting
DESCRIPTION:
URL:https://centralcarolinana.org/event/policy-and-procedures-subcommittee-meeting/
LOCATION:SC
END:VEVENT
BEGIN:VEVENT
DTSTART;TZID=America/New_York:20260110T180000
DTEND;TZID=America/New_York:20260110T220000
DTSTAMP:20260423T162029
CREATED:20260104T014823Z
LAST-MODIFIED:20260104T014823Z
UID:2690-1768068000-1768082400@centralcarolinana.org
SUMMARY:Unity Social Jam I
DESCRIPTION:CCANA Convention XXIX Fundraiser: Unity Social Jam I. Dance\, speakers\, refreshments\, and fun. Admission fee $10 at the door. Contact Convention Committee: (803) 339-2395 \n 
URL:https://centralcarolinana.org/event/unity-social-jam-i/
LOCATION:Forest Lake Presbyterian Church\, 6500 N Trenholm Road\, Columbia\, SC\, 29206\, United States
ATTACH;FMTTYPE=image/jpeg:https://centralcarolinana.org/wp-content/uploads/2026/01/unity_social_jam_fundraiser.jpg
END:VEVENT
BEGIN:VEVENT
DTSTART;TZID=America/New_York:20260103T183000
DTEND;TZID=America/New_York:20260103T193000
DTSTAMP:20260423T162029
CREATED:20251213T143435Z
LAST-MODIFIED:20251213T143435Z
UID:2670-1767465000-1767468600@centralcarolinana.org
SUMMARY:Celebration for Summer D
DESCRIPTION:Summer D celebrating 1 year at Better Together. Speaker Gracie G.
URL:https://centralcarolinana.org/event/celebration-for-summer-d/
LOCATION:Better Together\, 410 Harbison Blvd.\, Columbia\, SC\, 29212\, United States
ATTACH;FMTTYPE=image/jpeg:https://centralcarolinana.org/wp-content/uploads/2025/12/summer_d_celebration_jan2026.jpg
END:VEVENT
BEGIN:VEVENT
DTSTART;TZID=America/New_York:20251231T200000
DTEND;TZID=America/New_York:20260101T000000
DTSTAMP:20260423T162029
CREATED:20251125T222758Z
LAST-MODIFIED:20251125T222758Z
UID:2660-1767211200-1767225600@centralcarolinana.org
SUMMARY:New Year's Eve Party: Back to the 80's
DESCRIPTION:Free pizza\, dancing\, games. Bring your favorite party food! Wear your totally coolest 80’s Outfit. Admission is free; contributions to cover expenses gratefully accepted.
URL:https://centralcarolinana.org/event/new-years-eve-party-back-to-the-80s/
LOCATION:Emmanuel Lutheran Church\, 2491 Emmanuel Church Rd\, West Columbia\, SC\, 29170\, United States
ATTACH;FMTTYPE=image/jpeg:https://centralcarolinana.org/wp-content/uploads/2025/11/ccana_newyearseve2025_resized.jpg
END:VEVENT
BEGIN:VEVENT
DTSTART;TZID=America/New_York:20251231T110000
DTEND;TZID=America/New_York:20251231T130000
DTSTAMP:20260423T162029
CREATED:20251125T221438Z
LAST-MODIFIED:20251125T221438Z
UID:2658-1767178800-1767186000@centralcarolinana.org
SUMMARY:New Noon Holiday Breakfast
DESCRIPTION:Speaker: Kenny L. (29 years)
URL:https://centralcarolinana.org/event/new-noon-holiday-breakfast-5/
LOCATION:New Noon\, 541 Meeting Street\, West Columbia\, SC\, 29169\, United States
ATTACH;FMTTYPE=image/jpeg:https://centralcarolinana.org/wp-content/uploads/2025/11/newnoon_holiday_breakfast_dec2025.jpeg
END:VEVENT
BEGIN:VEVENT
DTSTART;TZID=America/New_York:20251228T170000
DTEND;TZID=America/New_York:20251228T190000
DTSTAMP:20260423T162029
CREATED:20251220T194000Z
LAST-MODIFIED:20251220T194125Z
UID:2684-1766941200-1766948400@centralcarolinana.org
SUMMARY:Ilene's Celebration at Legrand
DESCRIPTION:Ilene celebrating 5 years. Food & fellowship at 5pm\, meeting begins at 6pm. John W is speaking.
URL:https://centralcarolinana.org/event/ilenes-celebration-at-legrand/
LOCATION:LeGrand Recovery\, 1801 LeGrand Rd\, Columbia\, SC\, 29223\, United States
ATTACH;FMTTYPE=image/jpeg:https://centralcarolinana.org/wp-content/uploads/2025/12/ilene_celebration_legrand.jpg
END:VEVENT
BEGIN:VEVENT
DTSTART;TZID=America/New_York:20251228T100000
DTEND;TZID=America/New_York:20251228T110000
DTSTAMP:20260423T162029
CREATED:20251213T144533Z
LAST-MODIFIED:20251220T193726Z
UID:2679-1766916000-1766919600@centralcarolinana.org
SUMMARY:Celebration at Clean Living
DESCRIPTION:Stephanie Y celebrating 25 years!
URL:https://centralcarolinana.org/event/celebration-at-clean-living-2/
LOCATION:Clean Living\, 754 B Ave\, West Columbia\, SC\, 29169\, United States
ATTACH;FMTTYPE=image/jpeg:https://centralcarolinana.org/wp-content/uploads/2025/12/stephanie_y_celebration_dec28_2025-scaled.jpg
END:VEVENT
BEGIN:VEVENT
DTSTART;TZID=America/New_York:20251227T210000
DTEND;TZID=America/New_York:20251227T220000
DTSTAMP:20260423T162029
CREATED:20251208T015500Z
LAST-MODIFIED:20251208T015500Z
UID:2666-1766869200-1766872800@centralcarolinana.org
SUMMARY:Brian F's Celebration
DESCRIPTION:Brian F celebrating 27 years clean at Hope Hole. Dinner at Zestos at 7:15pm\, meeting at 9. Clif L will be speaking.
URL:https://centralcarolinana.org/event/brian-fs-celebration/
LOCATION:Hope Hole\, 1600 12th Street\, Cayce\, SC\, 29033\, United States
ATTACH;FMTTYPE=image/jpeg:https://centralcarolinana.org/wp-content/uploads/2025/12/brian_f_celebration_dec27_2025.jpg
END:VEVENT
BEGIN:VEVENT
DTSTART;TZID=America/New_York:20251220T160000
DTEND;TZID=America/New_York:20251220T170000
DTSTAMP:20260423T162029
CREATED:20251123T143806Z
LAST-MODIFIED:20251123T143806Z
UID:2645-1766246400-1766250000@centralcarolinana.org
SUMMARY:Welcome Home Subcommittee Meeting
DESCRIPTION:
URL:https://centralcarolinana.org/event/welcome-home-subcommittee-meeting-3/
LOCATION:Next Right Thing\, 1600 12th Street\, Cayce\, SC\, 29033\, United States
END:VEVENT
BEGIN:VEVENT
DTSTART;TZID=America/New_York:20251219T183000
DTEND;TZID=America/New_York:20251219T203000
DTSTAMP:20260423T162029
CREATED:20251213T144221Z
LAST-MODIFIED:20251213T144221Z
UID:2676-1766169000-1766176200@centralcarolinana.org
SUMMARY:Celebration at Second Chance
DESCRIPTION:Courtney D 5 years — Greg B 11 years. Food at 6:30\, meeting at 7:30 (speaker Mike D.)
URL:https://centralcarolinana.org/event/celebration-at-second-chance/
LOCATION:Second Chance\, 7068 Nursery Road\, Columbia\, SC\, 29212\, United States
ATTACH;FMTTYPE=image/jpeg:https://centralcarolinana.org/wp-content/uploads/2025/12/second_chance_celebration_dec19_2025.jpg
END:VEVENT
BEGIN:VEVENT
DTSTART;TZID=America/New_York:20251217T110000
DTEND;TZID=America/New_York:20251217T130000
DTSTAMP:20260423T162029
CREATED:20251125T221252Z
LAST-MODIFIED:20251125T221252Z
UID:2656-1765969200-1765976400@centralcarolinana.org
SUMMARY:New Noon Holiday Breakfast
DESCRIPTION:Speaker: Valerie F. (21 years)
URL:https://centralcarolinana.org/event/new-noon-holiday-breakfast-4/
LOCATION:New Noon\, 541 Meeting Street\, West Columbia\, SC\, 29169\, United States
ATTACH;FMTTYPE=image/jpeg:https://centralcarolinana.org/wp-content/uploads/2025/11/newnoon_holiday_breakfast_dec2025.jpeg
END:VEVENT
BEGIN:VEVENT
DTSTART;TZID=America/New_York:20251214T180000
DTEND;TZID=America/New_York:20251214T200000
DTSTAMP:20260423T162029
CREATED:20251213T144002Z
LAST-MODIFIED:20251213T144002Z
UID:2673-1765735200-1765742400@centralcarolinana.org
SUMMARY:Celebration at Building Recovery
DESCRIPTION:Deidre Y 6 years — Dylan W 3 years — Creale B 18 months. Celebration 6-7pm\, meeting 7-8pm.
URL:https://centralcarolinana.org/event/celebration-at-building-recovery/
LOCATION:Building Recovery\, 2909 Old Barnwell Rd.\, Lexington\, SC\, 29073\, United States
ATTACH;FMTTYPE=image/jpeg:https://centralcarolinana.org/wp-content/uploads/2025/12/building_recovery_celebration_dec14_2025.jpeg
END:VEVENT
BEGIN:VEVENT
DTSTART;TZID=America/New_York:20251214T150000
DTEND;TZID=America/New_York:20251214T170000
DTSTAMP:20260423T162029
CREATED:20251110T015238Z
LAST-MODIFIED:20251110T015238Z
UID:2618-1765724400-1765731600@centralcarolinana.org
SUMMARY:Area Service Committee Meeting
DESCRIPTION:
URL:https://centralcarolinana.org/event/area-service-committee-meeting-6/
LOCATION:A New Perspective\, 735 Old Lexington Hwy\, Chapin\, SC\, 29036\, United States
END:VEVENT
BEGIN:VEVENT
DTSTART;TZID=America/New_York:20251214T140000
DTEND;TZID=America/New_York:20251214T150000
DTSTAMP:20260423T162029
CREATED:20251110T015320Z
LAST-MODIFIED:20251110T015320Z
UID:2620-1765720800-1765724400@centralcarolinana.org
SUMMARY:Policy and Procedure Subcommittee Meeting
DESCRIPTION:
URL:https://centralcarolinana.org/event/policy-and-procedure-subcommittee-meeting-3/
LOCATION:A New Perspective\, 735 Old Lexington Hwy\, Chapin\, SC\, 29036\, United States
END:VEVENT
BEGIN:VEVENT
DTSTART;TZID=America/New_York:20251213T140000
DTEND;TZID=America/New_York:20251213T150000
DTSTAMP:20260423T162029
CREATED:20251120T224010Z
LAST-MODIFIED:20251120T224010Z
UID:2630-1765634400-1765638000@centralcarolinana.org
SUMMARY:Activities Subcommittee Meeting
DESCRIPTION:
URL:https://centralcarolinana.org/event/activities-subcommittee-meeting-6/
LOCATION:Emmanuel Lutheran Church\, 2491 Emmanuel Church Rd\, West Columbia\, SC\, 29170\, United States
ATTACH;FMTTYPE=image/jpeg:https://centralcarolinana.org/wp-content/uploads/2025/11/activities-subcommittee-12132025.jpg
END:VEVENT
BEGIN:VEVENT
DTSTART;TZID=America/New_York:20251210T190000
DTEND;TZID=America/New_York:20251210T200000
DTSTAMP:20260423T162029
CREATED:20250927T192853Z
LAST-MODIFIED:20250927T192853Z
UID:2511-1765393200-1765396800@centralcarolinana.org
SUMMARY:NANA Holiday Dinner
DESCRIPTION:Bring a covered dish or dessert
URL:https://centralcarolinana.org/event/nana-holiday-dinner/
LOCATION:Seven Oaks Presbyterian Church\, 530 St. Andrews Rd.\, Columbia\, SC\, 29210\, United States
ATTACH;FMTTYPE=image/jpeg:https://centralcarolinana.org/wp-content/uploads/2025/09/nana-holiday-dinner-2025.jpg
END:VEVENT
BEGIN:VEVENT
DTSTART;TZID=America/New_York:20251204T190000
DTEND;TZID=America/New_York:20251204T200000
DTSTAMP:20260423T162029
CREATED:20251120T224304Z
LAST-MODIFIED:20251120T224304Z
UID:2633-1764874800-1764878400@centralcarolinana.org
SUMMARY:Annie L Celebration
DESCRIPTION:Annie L celebrating 3 years. Speaker Dusty S
URL:https://centralcarolinana.org/event/annie-l-celebration/
LOCATION:Avenue Q\, 2827 Wheat Street Rm 215\, Columbia\, SC\, 29205\, United States
ATTACH;FMTTYPE=image/jpeg:https://centralcarolinana.org/wp-content/uploads/2025/11/annie-ave-q-celebration-2025.jpg
END:VEVENT
BEGIN:VEVENT
DTSTART;TZID=America/New_York:20251203T203000
DTEND;TZID=America/New_York:20251203T213000
DTSTAMP:20260423T162029
CREATED:20251120T224936Z
LAST-MODIFIED:20251120T224936Z
UID:2637-1764793800-1764797400@centralcarolinana.org
SUMMARY:New Meeting: Conscious Contact
DESCRIPTION:
URL:https://centralcarolinana.org/event/new-meeting-conscious-contact/
LOCATION:Emmanuel Lutheran Church\, 2491 Emmanuel Church Rd\, West Columbia\, SC\, 29170\, United States
ATTACH;FMTTYPE=image/jpeg:https://centralcarolinana.org/wp-content/uploads/2025/11/conscious-contact-12032025-scaled.jpg
END:VEVENT
BEGIN:VEVENT
DTSTART;TZID=America/New_York:20251203T110000
DTEND;TZID=America/New_York:20251203T130000
DTSTAMP:20260423T162029
CREATED:20251125T220912Z
LAST-MODIFIED:20251125T220912Z
UID:2653-1764759600-1764766800@centralcarolinana.org
SUMMARY:New Noon Holiday Breakfast
DESCRIPTION:Speaker: Lori O. (36 years)
URL:https://centralcarolinana.org/event/new-noon-holiday-breakfast-3/
LOCATION:New Noon\, 541 Meeting Street\, West Columbia\, SC\, 29169\, United States
ATTACH;FMTTYPE=image/jpeg:https://centralcarolinana.org/wp-content/uploads/2025/11/newnoon_holiday_breakfast_dec2025.jpeg
END:VEVENT
BEGIN:VEVENT
DTSTART;TZID=America/New_York:20251127T140000
DTEND;TZID=America/New_York:20251127T213000
DTSTAMP:20260423T162029
CREATED:20251110T014915Z
LAST-MODIFIED:20251110T014915Z
UID:2615-1764252000-1764279000@centralcarolinana.org
SUMMARY:Naturally High Thanksgiving Dinner
DESCRIPTION:All people & homegroups welcome. Meetings & fellowship throughout the day. Bring a dish to share if you like (see homegroup for sign up sheet for food)
URL:https://centralcarolinana.org/event/naturally-high-thanksgiving-dinner/
LOCATION:Naturally High\, 5220 Clemson Ave\, Columbia\, 29204\, United States
ATTACH;FMTTYPE=image/jpeg:https://centralcarolinana.org/wp-content/uploads/2025/11/naturallyhigh_thanksgiving_nov27.jpeg
END:VEVENT
BEGIN:VEVENT
DTSTART;TZID=America/New_York:20251121T110000
DTEND;TZID=America/New_York:20251121T133000
DTSTAMP:20260423T162029
CREATED:20251027T225144Z
LAST-MODIFIED:20251031T180744Z
UID:2596-1763722800-1763731800@centralcarolinana.org
SUMMARY:New Noon Celebration
DESCRIPTION:Tony W. celebrating 21 years. Raygen W. celebrating 1 year. Audra T. celebrating 6 years. \nSpeakers – Marlene F. & Jesus C. \nFood – 11am. Meeting 12 – 1:30pm.
URL:https://centralcarolinana.org/event/new-noon-celebration/
LOCATION:New Noon\, 541 Meeting Street\, West Columbia\, SC\, 29169\, United States
ATTACH;FMTTYPE=image/jpeg:https://centralcarolinana.org/wp-content/uploads/2025/10/newnoon-celebration-11212025.jpeg
END:VEVENT
BEGIN:VEVENT
DTSTART;TZID=America/New_York:20251120T173000
DTEND;TZID=America/New_York:20251120T193000
DTSTAMP:20260423T162029
CREATED:20251031T181512Z
LAST-MODIFIED:20251031T181512Z
UID:2605-1763659800-1763667000@centralcarolinana.org
SUMMARY:Celebration at Serenity at Sunset
DESCRIPTION:Eric is celebrating 7 years! Food to follow meeting. Bring a dish if you wish.
URL:https://centralcarolinana.org/event/celebration-at-serenity-at-sunset-6/
LOCATION:Serenity at Sunset\, 3215 Platt Springs Rd\, West Columbia\, SC\, 29170\, United States
ATTACH;FMTTYPE=image/jpeg:https://centralcarolinana.org/wp-content/uploads/2025/10/serenityatsunset-celebration-11202025.jpg
END:VEVENT
BEGIN:VEVENT
DTSTART;TZID=America/New_York:20251119T110000
DTEND;TZID=America/New_York:20251119T130000
DTSTAMP:20260423T162029
CREATED:20251027T224806Z
LAST-MODIFIED:20251027T224806Z
UID:2594-1763550000-1763557200@centralcarolinana.org
SUMMARY:New Noon Holiday Breakfast
DESCRIPTION:Speaker: Barbara C. (Charlotte) – 36 years. Food at 11am\, meeting 12 – 1pm.
URL:https://centralcarolinana.org/event/new-noon-holiday-breakfast-2/
LOCATION:New Noon\, 541 Meeting Street\, West Columbia\, SC\, 29169\, United States
ATTACH;FMTTYPE=image/jpeg:https://centralcarolinana.org/wp-content/uploads/2025/10/newnoon-holiday-breakfasts-nov25.jpeg
END:VEVENT
BEGIN:VEVENT
DTSTART;TZID=America/New_York:20251116T100000
DTEND;TZID=America/New_York:20251116T110000
DTSTAMP:20260423T162029
CREATED:20251025T160024Z
LAST-MODIFIED:20251030T140710Z
UID:2567-1763287200-1763290800@centralcarolinana.org
SUMMARY:Celebration at Clean Living
DESCRIPTION:Celebrants: Jen Pen 16 years\, Amanda P 10 years. \nErin K speaking \nBrunch @ Lizard’s Thicket on Knox Abbot Dr afterward
URL:https://centralcarolinana.org/event/celebration-at-clean-living/
LOCATION:Clean Living\, 754 B Ave\, West Columbia\, SC\, 29169\, United States
ATTACH;FMTTYPE=image/jpeg:https://centralcarolinana.org/wp-content/uploads/2025/10/clean-living-celebration-nov2025.jpg
END:VEVENT
BEGIN:VEVENT
DTSTART;TZID=America/New_York:20251115T183000
DTEND;TZID=America/New_York:20251115T193000
DTSTAMP:20260423T162029
CREATED:20251031T181146Z
LAST-MODIFIED:20251031T181146Z
UID:2602-1763231400-1763235000@centralcarolinana.org
SUMMARY:A Celebration of 3
DESCRIPTION:Nicole L – 1 year. Emily E – 3 years. Amy S – 3 years. \nDusty S speaking.
URL:https://centralcarolinana.org/event/a-celebration-of-3/
LOCATION:Better Together\, 410 Harbison Blvd.\, Columbia\, SC\, 29212\, United States
ATTACH;FMTTYPE=image/jpeg:https://centralcarolinana.org/wp-content/uploads/2025/10/bettertogether-celebration-11152025.jpg
END:VEVENT
BEGIN:VEVENT
DTSTART;TZID=America/New_York:20251115T180000
DTEND;TZID=America/New_York:20251115T210000
DTSTAMP:20260423T162029
CREATED:20251027T224056Z
LAST-MODIFIED:20251027T224056Z
UID:2585-1763229600-1763240400@centralcarolinana.org
SUMMARY:Second Chance 22nd Anniversary Party
DESCRIPTION:Fellowship\, food\, bonfire\, games\, and art activities. 7:30 Speaker meeting. If you would like and are able to\, please bring a covered dish to share.
URL:https://centralcarolinana.org/event/second-chance-22nd-anniversary-party/
LOCATION:Second Chance\, 7068 Nursery Road\, Columbia\, SC\, 29212\, United States
ATTACH;FMTTYPE=image/jpeg:https://centralcarolinana.org/wp-content/uploads/2025/10/2ndChance-22nd-anniversary.jpg
END:VEVENT
BEGIN:VEVENT
DTSTART;TZID=America/New_York:20251115T160000
DTEND;TZID=America/New_York:20251115T170000
DTSTAMP:20260423T162029
CREATED:20251027T223735Z
LAST-MODIFIED:20251027T223735Z
UID:2582-1763222400-1763226000@centralcarolinana.org
SUMMARY:Welcome Home Convention Committee Meeting
DESCRIPTION:
URL:https://centralcarolinana.org/event/welcome-home-convention-committee-meeting-6/
LOCATION:Hope Hole\, 1600 12th Street\, Cayce\, SC\, 29033\, United States
ATTACH;FMTTYPE=image/jpeg:https://centralcarolinana.org/wp-content/uploads/2025/10/welcomehome-committee-meeting-scaled.jpg
END:VEVENT
BEGIN:VEVENT
DTSTART;TZID=America/New_York:20251115T140000
DTEND;TZID=America/New_York:20251115T150000
DTSTAMP:20260423T162029
CREATED:20251031T181723Z
LAST-MODIFIED:20251031T182121Z
UID:2608-1763215200-1763218800@centralcarolinana.org
SUMMARY:Activities Subcommittee Meeting
DESCRIPTION:
URL:https://centralcarolinana.org/event/activities-subcommittee-meeting-5/
LOCATION:Starbucks 2505\, 2505 Sunset Blvd\, West Columbia\, SC\, 29169\, United States
ATTACH;FMTTYPE=image/jpeg:https://centralcarolinana.org/wp-content/uploads/2025/10/activities-meeting-11152025-scaled.jpg
END:VEVENT
BEGIN:VEVENT
DTSTART;TZID=America/New_York:20251109T150000
DTEND;TZID=America/New_York:20251109T170000
DTSTAMP:20260423T162029
CREATED:20251027T223138Z
LAST-MODIFIED:20251027T223138Z
UID:2576-1762700400-1762707600@centralcarolinana.org
SUMMARY:CCANA Area Meeting
DESCRIPTION:
URL:https://centralcarolinana.org/event/ccana-area-meeting-5/
LOCATION:Next Right Thing\, 1600 12th Street\, Cayce\, SC\, 29033\, United States
ATTACH;FMTTYPE=image/jpeg:https://centralcarolinana.org/wp-content/uploads/2025/10/ccana-area-meeting-nov25-scaled.jpg
END:VEVENT
END:VCALENDAR