BEGIN:VCALENDAR
VERSION:2.0
PRODID:-//CCANA - ECPv6.15.20//NONSGML v1.0//EN
CALSCALE:GREGORIAN
METHOD:PUBLISH
X-WR-CALNAME:CCANA
X-ORIGINAL-URL:https://centralcarolinana.org
X-WR-CALDESC:Events for CCANA
REFRESH-INTERVAL;VALUE=DURATION:PT1H
X-Robots-Tag:noindex
X-PUBLISHED-TTL:PT1H
BEGIN:VTIMEZONE
TZID:America/New_York
BEGIN:DAYLIGHT
TZOFFSETFROM:-0500
TZOFFSETTO:-0400
TZNAME:EDT
DTSTART:20230312T070000
END:DAYLIGHT
BEGIN:STANDARD
TZOFFSETFROM:-0400
TZOFFSETTO:-0500
TZNAME:EST
DTSTART:20231105T060000
END:STANDARD
BEGIN:DAYLIGHT
TZOFFSETFROM:-0500
TZOFFSETTO:-0400
TZNAME:EDT
DTSTART:20240310T070000
END:DAYLIGHT
BEGIN:STANDARD
TZOFFSETFROM:-0400
TZOFFSETTO:-0500
TZNAME:EST
DTSTART:20241103T060000
END:STANDARD
BEGIN:DAYLIGHT
TZOFFSETFROM:-0500
TZOFFSETTO:-0400
TZNAME:EDT
DTSTART:20250309T070000
END:DAYLIGHT
BEGIN:STANDARD
TZOFFSETFROM:-0400
TZOFFSETTO:-0500
TZNAME:EST
DTSTART:20251102T060000
END:STANDARD
BEGIN:DAYLIGHT
TZOFFSETFROM:-0500
TZOFFSETTO:-0400
TZNAME:EDT
DTSTART:20260308T070000
END:DAYLIGHT
BEGIN:STANDARD
TZOFFSETFROM:-0400
TZOFFSETTO:-0500
TZNAME:EST
DTSTART:20261101T060000
END:STANDARD
END:VTIMEZONE
BEGIN:VEVENT
DTSTART;TZID=America/New_York:20250426T180000
DTEND;TZID=America/New_York:20250426T210000
DTSTAMP:20260425T111036
CREATED:20250402T022419Z
LAST-MODIFIED:20250425T235036Z
UID:2274-1745690400-1745701200@centralcarolinana.org
SUMMARY:Welcome Home Chicken Bog Fundraiser
DESCRIPTION:$15 for adults and $5 for children 10years and younger
URL:https://centralcarolinana.org/event/welcome-home-chicken-bog-fundraiser/
LOCATION:Next Right Thing\, 1600 12th Street\, Cayce\, SC\, 29033\, United States
END:VEVENT
BEGIN:VEVENT
DTSTART;TZID=America/New_York:20250426T160000
DTEND;TZID=America/New_York:20250426T170000
DTSTAMP:20260425T111036
CREATED:20250331T024805Z
LAST-MODIFIED:20250412T021232Z
UID:2266-1745683200-1745686800@centralcarolinana.org
SUMMARY:Welcome Home Business Meeting
DESCRIPTION:
URL:https://centralcarolinana.org/event/welcome-home-business-meeting-7/
LOCATION:Next Right Thing\, 1600 12th Street\, Cayce\, SC\, 29033\, United States
END:VEVENT
BEGIN:VEVENT
DTSTART;TZID=America/New_York:20250413T150000
DTEND;TZID=America/New_York:20250413T170000
DTSTAMP:20260425T111036
CREATED:20250412T024520Z
LAST-MODIFIED:20250412T024520Z
UID:2293-1744556400-1744563600@centralcarolinana.org
SUMMARY:CCANA AREA MEETING
DESCRIPTION:
URL:https://centralcarolinana.org/event/ccana-area-meeting-2/
LOCATION:How it Works\, 910 Cook Rd\, Orangeburg\, SC\, 29118\, United States
END:VEVENT
BEGIN:VEVENT
DTSTART;TZID=America/New_York:20250413T140000
DTEND;TZID=America/New_York:20250413T150000
DTSTAMP:20260425T111036
CREATED:20250412T024850Z
LAST-MODIFIED:20250412T024850Z
UID:2296-1744552800-1744556400@centralcarolinana.org
SUMMARY:Policy & Procedure Subcommittee Meeting
DESCRIPTION:
URL:https://centralcarolinana.org/event/policy-procedure-subcommittee-meeting/
LOCATION:How it Works\, 910 Cook Rd\, Orangeburg\, SC\, 29118\, United States
END:VEVENT
BEGIN:VEVENT
DTSTART;TZID=America/New_York:20250327T193000
DTEND;TZID=America/New_York:20250327T203000
DTSTAMP:20260425T111036
CREATED:20250216T163219Z
LAST-MODIFIED:20250216T163219Z
UID:2238-1743103800-1743107400@centralcarolinana.org
SUMMARY:Celebration at A New Perspective
DESCRIPTION:Come help Andrew B celebrate 16 yrs and Chris M celebrate 30 yrs! They will have homemade cake and go out to eat after the meeting.
URL:https://centralcarolinana.org/event/celebration-at-a-new-perspective-2/
LOCATION:A New Perspective\, 735 Old Lexington Hwy\, Chapin\, SC\, 29036\, United States
END:VEVENT
BEGIN:VEVENT
DTSTART;TZID=America/New_York:20250308T183000
DTEND;TZID=America/New_York:20250308T193000
DTSTAMP:20260425T111036
CREATED:20250217T133816Z
LAST-MODIFIED:20250217T133816Z
UID:2256-1741458600-1741462200@centralcarolinana.org
SUMMARY:Celebration at Better Together
DESCRIPTION:Come help Dusty celebrate 3 yrs\, Charlotte 9 yrs and Becca 20 yrs! Speaker TBD
URL:https://centralcarolinana.org/event/celebration-at-better-together/
LOCATION:Better Together\, 410 Harbison Blvd.\, Columbia\, SC\, 29212\, United States
END:VEVENT
BEGIN:VEVENT
DTSTART;TZID=America/New_York:20250301T180000
DTEND;TZID=America/New_York:20250301T220000
DTSTAMP:20260425T111036
CREATED:20250114T231057Z
LAST-MODIFIED:20250216T162940Z
UID:2221-1740852000-1740866400@centralcarolinana.org
SUMMARY:Welcome Home XXVIII Spaghetti Dinner Fundraiser
DESCRIPTION:$15 per adult and $5 per child 10 and under ****CASH ONLY****. Rummy and other games provided.
URL:https://centralcarolinana.org/event/welcome-home-xxviii-spaghetti-dinner-fundraiser/
LOCATION:Next Right Thing\, 1600 12th Street\, Cayce\, SC\, 29033\, United States
END:VEVENT
BEGIN:VEVENT
DTSTART;TZID=America/New_York:20250223T150000
DTEND;TZID=America/New_York:20250223T160000
DTSTAMP:20260425T111036
CREATED:20250216T163918Z
LAST-MODIFIED:20250216T163918Z
UID:2244-1740322800-1740326400@centralcarolinana.org
SUMMARY:H&I Committee Meeting
DESCRIPTION:
URL:https://centralcarolinana.org/event/hi-committee-meeting/
LOCATION:Naturally High\, 5220 Clemson Ave\, Columbia\, 29204\, United States
END:VEVENT
BEGIN:VEVENT
DTSTART;TZID=America/New_York:20250223T140000
DTEND;TZID=America/New_York:20250223T150000
DTSTAMP:20260425T111036
CREATED:20250216T164004Z
LAST-MODIFIED:20250216T164004Z
UID:2246-1740319200-1740322800@centralcarolinana.org
SUMMARY:H&I Orientation
DESCRIPTION:
URL:https://centralcarolinana.org/event/hi-orientation-5/
LOCATION:Naturally High\, 5220 Clemson Ave\, Columbia\, 29204\, United States
END:VEVENT
BEGIN:VEVENT
DTSTART;TZID=America/New_York:20250223T140000
DTEND;TZID=America/New_York:20250223T150000
DTSTAMP:20260425T111036
CREATED:20250216T163744Z
LAST-MODIFIED:20250216T163744Z
UID:2242-1740319200-1740322800@centralcarolinana.org
SUMMARY:PR Committee Meeting
DESCRIPTION:
URL:https://centralcarolinana.org/event/pr-committee-meeting-2/
LOCATION:Naturally High\, 5220 Clemson Ave\, Columbia\, 29204\, United States
END:VEVENT
BEGIN:VEVENT
DTSTART;TZID=America/New_York:20250216T170000
DTEND;TZID=America/New_York:20250216T180000
DTSTAMP:20260425T111036
CREATED:20250216T163433Z
LAST-MODIFIED:20250216T163433Z
UID:2240-1739725200-1739728800@centralcarolinana.org
SUMMARY:Web Committee Meeting
DESCRIPTION:
URL:https://centralcarolinana.org/event/web-committee-meeting-5/
LOCATION:Starbucks W. Columbia\, 2408 Augusta Rd.\, West Columbia\, SC\, 29169\, United States
END:VEVENT
BEGIN:VEVENT
DTSTART;TZID=America/New_York:20250130T190000
DTEND;TZID=America/New_York:20250130T200000
DTSTAMP:20260425T111036
CREATED:20250114T231311Z
LAST-MODIFIED:20250114T231311Z
UID:2223-1738263600-1738267200@centralcarolinana.org
SUMMARY:Ave Q Celebration
DESCRIPTION:Come help Lawrence G. celebrate 35yrs!
URL:https://centralcarolinana.org/event/ave-q-celebration/
LOCATION:Avenue Q\, 2827 Wheat Street Rm 215\, Columbia\, SC\, 29205\, United States
END:VEVENT
BEGIN:VEVENT
DTSTART;TZID=America/New_York:20250125T160000
DTEND;TZID=America/New_York:20250125T180000
DTSTAMP:20260425T111036
CREATED:20241202T223303Z
LAST-MODIFIED:20241229T181252Z
UID:2159-1737820800-1737828000@centralcarolinana.org
SUMMARY:Welcome Home Convention Committee Meeting
DESCRIPTION:
URL:https://centralcarolinana.org/event/welcome-home-convention-committee-meeting-5/
LOCATION:Next Right Thing\, 1600 12th Street\, Cayce\, SC\, 29033\, United States
END:VEVENT
BEGIN:VEVENT
DTSTART;TZID=America/New_York:20250119T170000
DTEND;TZID=America/New_York:20250119T180000
DTSTAMP:20260425T111036
CREATED:20250110T223643Z
LAST-MODIFIED:20250110T223643Z
UID:2219-1737306000-1737309600@centralcarolinana.org
SUMMARY:Web Committee Meeting
DESCRIPTION:
URL:https://centralcarolinana.org/event/web-committee-meeting-4/
LOCATION:Starbucks W. Columbia\, 2408 Augusta Rd.\, West Columbia\, SC\, 29169\, United States
END:VEVENT
BEGIN:VEVENT
DTSTART;TZID=America/New_York:20250116T193000
DTEND;TZID=America/New_York:20250116T203000
DTSTAMP:20260425T111036
CREATED:20241214T010905Z
LAST-MODIFIED:20241214T010905Z
UID:2193-1737055800-1737059400@centralcarolinana.org
SUMMARY:Celebration at A New Perspective
DESCRIPTION:Come help Trey M celebrate 2yrs and Mike G celebrate 26yrs!
URL:https://centralcarolinana.org/event/celebration-at-a-new-perspective/
LOCATION:A New Perspective\, 735 Old Lexington Hwy\, Chapin\, SC\, 29036\, United States
END:VEVENT
BEGIN:VEVENT
DTSTART;TZID=America/New_York:20250116T190000
DTEND;TZID=America/New_York:20250116T200000
DTSTAMP:20260425T111036
CREATED:20241214T010724Z
LAST-MODIFIED:20241214T010724Z
UID:2191-1737054000-1737057600@centralcarolinana.org
SUMMARY:Celebration at Ave Q
DESCRIPTION:Come help Morgan celebrate 15yrs!
URL:https://centralcarolinana.org/event/celebration-at-ave-q-4/
LOCATION:Avenue Q\, 2827 Wheat Street Rm 215\, Columbia\, SC\, 29205\, United States
END:VEVENT
BEGIN:VEVENT
DTSTART;TZID=America/New_York:20250112T150000
DTEND;TZID=America/New_York:20250112T170000
DTSTAMP:20260425T111036
CREATED:20241213T002338Z
LAST-MODIFIED:20241213T002338Z
UID:2171-1736694000-1736701200@centralcarolinana.org
SUMMARY:CCANA ASC Meeting
DESCRIPTION:
URL:https://centralcarolinana.org/event/ccana-asc-meeting-2/
LOCATION:Hope Hole\, 1600 12th Street\, Cayce\, SC\, 29033\, United States
END:VEVENT
BEGIN:VEVENT
DTSTART;TZID=America/New_York:20250112T140000
DTEND;TZID=America/New_York:20250112T150000
DTSTAMP:20260425T111036
CREATED:20241213T002455Z
LAST-MODIFIED:20241213T002455Z
UID:2173-1736690400-1736694000@centralcarolinana.org
SUMMARY:P&P Subcommittee Meeting
DESCRIPTION:
URL:https://centralcarolinana.org/event/pp-subcommittee-meeting/
LOCATION:Hope Hole\, 1600 12th Street\, Cayce\, SC\, 29033\, United States
END:VEVENT
BEGIN:VEVENT
DTSTART;TZID=America/New_York:20250111T160000
DTEND;TZID=America/New_York:20250111T180000
DTSTAMP:20260425T111036
CREATED:20241202T223110Z
LAST-MODIFIED:20241229T181335Z
UID:2157-1736611200-1736618400@centralcarolinana.org
SUMMARY:Welcome Home Convention Committee Meeting
DESCRIPTION:
URL:https://centralcarolinana.org/event/welcome-home-convention-committee-meeting-4/
LOCATION:Next Right Thing\, 1600 12th Street\, Cayce\, SC\, 29033\, United States
END:VEVENT
BEGIN:VEVENT
DTSTART;TZID=America/New_York:20250102T190000
DTEND;TZID=America/New_York:20250102T200000
DTSTAMP:20260425T111036
CREATED:20241213T003252Z
LAST-MODIFIED:20241213T003252Z
UID:2181-1735844400-1735848000@centralcarolinana.org
SUMMARY:Celebration at Ave Q!
DESCRIPTION:Come help John F. celebrate 2yrs and Brandt 10yrs!! Mickey will be speaking.
URL:https://centralcarolinana.org/event/celebration-at-ave-q-3/
LOCATION:Avenue Q\, 2827 Wheat Street Rm 215\, Columbia\, SC\, 29205\, United States
END:VEVENT
BEGIN:VEVENT
DTSTART;TZID=America/New_York:20241229T150000
DTEND;TZID=America/New_York:20241229T160000
DTSTAMP:20260425T111036
CREATED:20241213T002758Z
LAST-MODIFIED:20241213T002758Z
UID:2177-1735484400-1735488000@centralcarolinana.org
SUMMARY:H&I MEETING
DESCRIPTION:
URL:https://centralcarolinana.org/event/hi-meeting/
LOCATION:Naturally High\, 5220 Clemson Ave\, Columbia\, 29204\, United States
END:VEVENT
BEGIN:VEVENT
DTSTART;TZID=America/New_York:20241229T141500
DTEND;TZID=America/New_York:20241229T150000
DTSTAMP:20260425T111036
CREATED:20241213T002721Z
LAST-MODIFIED:20241213T002721Z
UID:2175-1735481700-1735484400@centralcarolinana.org
SUMMARY:H&I ORIENTATION
DESCRIPTION:
URL:https://centralcarolinana.org/event/hi-orientation-4/
LOCATION:Naturally High\, 5220 Clemson Ave\, Columbia\, 29204\, United States
END:VEVENT
BEGIN:VEVENT
DTSTART;TZID=America/New_York:20241229T130000
DTEND;TZID=America/New_York:20241229T140000
DTSTAMP:20260425T111036
CREATED:20241213T002834Z
LAST-MODIFIED:20241213T002834Z
UID:2179-1735477200-1735480800@centralcarolinana.org
SUMMARY:PR MEETING
DESCRIPTION:
URL:https://centralcarolinana.org/event/pr-meeting-2/
LOCATION:Naturally High\, 5220 Clemson Ave\, Columbia\, 29204\, United States
END:VEVENT
BEGIN:VEVENT
DTSTART;TZID=America/New_York:20241228T210000
DTEND;TZID=America/New_York:20241228T220000
DTSTAMP:20260425T111036
CREATED:20241213T001916Z
LAST-MODIFIED:20241214T011604Z
UID:2169-1735419600-1735423200@centralcarolinana.org
SUMMARY:Celebration at Hope Hole
DESCRIPTION:Come help Brian F celebrate 26yrs! Cliff L will be speaking.
URL:https://centralcarolinana.org/event/brian-f-celebration-at-hope-hole/
LOCATION:Hope Hole\, 1600 12th Street\, Cayce\, SC\, 29033\, United States
END:VEVENT
BEGIN:VEVENT
DTSTART;TZID=America/New_York:20241228T170000
DTEND;TZID=America/New_York:20241228T180000
DTSTAMP:20260425T111036
CREATED:20241202T222929Z
LAST-MODIFIED:20241202T223015Z
UID:2155-1735405200-1735408800@centralcarolinana.org
SUMMARY:Welcome Home Convention Committee Meeting
DESCRIPTION:
URL:https://centralcarolinana.org/event/welcome-home-convention-committee-meeting-3/
LOCATION:Next Right Thing\, 1600 12th Street\, Cayce\, SC\, 29033\, United States
END:VEVENT
BEGIN:VEVENT
DTSTART;TZID=America/New_York:20241227T183000
DTEND;TZID=America/New_York:20241227T193000
DTSTAMP:20260425T111036
CREATED:20241213T003457Z
LAST-MODIFIED:20241214T011658Z
UID:2183-1735324200-1735327800@centralcarolinana.org
SUMMARY:Celebration at Next Right Thing
DESCRIPTION:Come help Christian Y celebrate 38 yrs clean!
URL:https://centralcarolinana.org/event/christian-y-celebration-at-new-right-thing/
LOCATION:Next Right Thing\, 1600 12th Street\, Cayce\, SC\, 29033\, United States
END:VEVENT
BEGIN:VEVENT
DTSTART;TZID=America/New_York:20241217T190000
DTEND;TZID=America/New_York:20241217T203000
DTSTAMP:20260425T111036
CREATED:20241213T004015Z
LAST-MODIFIED:20241213T004015Z
UID:2185-1734462000-1734467400@centralcarolinana.org
SUMMARY:Celebration at There's a Solution
DESCRIPTION:Come help Chris P celebrate 2yrs! Potluck at 7pm and F’it Bucket at 7:30pm
URL:https://centralcarolinana.org/event/celebration-at-theres-a-solution/
LOCATION:There is a Solution\, 500 S Kilbourne Rd\, Columbia\, SC\, 29205
END:VEVENT
BEGIN:VEVENT
DTSTART;TZID=America/New_York:20241215T160000
DTEND;TZID=America/New_York:20241215T170000
DTSTAMP:20260425T111036
CREATED:20241208T164335Z
LAST-MODIFIED:20241215T144833Z
UID:2167-1734278400-1734282000@centralcarolinana.org
SUMMARY:Web Committee Meeting
DESCRIPTION:
URL:https://centralcarolinana.org/event/web-committee-meeting-3/
LOCATION:Starbucks W. Columbia\, 2408 Augusta Rd.\, West Columbia\, SC\, 29169\, United States
END:VEVENT
BEGIN:VEVENT
DTSTART;TZID=America/New_York:20241214T170000
DTEND;TZID=America/New_York:20241214T180000
DTSTAMP:20260425T111036
CREATED:20241124T231619Z
LAST-MODIFIED:20241124T231619Z
UID:2147-1734195600-1734199200@centralcarolinana.org
SUMMARY:Welcome Home Convention Committee Meeting
DESCRIPTION:
URL:https://centralcarolinana.org/event/welcome-home-convention-committee-meeting-2/
LOCATION:Next Right Thing\, 1600 12th Street\, Cayce\, SC\, 29033\, United States
END:VEVENT
BEGIN:VEVENT
DTSTART;TZID=America/New_York:20241208T150000
DTEND;TZID=America/New_York:20241208T170000
DTSTAMP:20260425T111036
CREATED:20241121T233102Z
LAST-MODIFIED:20241121T233102Z
UID:2141-1733670000-1733677200@centralcarolinana.org
SUMMARY:Area Subcommittee Meeting
DESCRIPTION:
URL:https://centralcarolinana.org/event/area-subcommittee-meeting/
LOCATION:Freedom Group\, 1104 Church St\, Camden\, SC\, 29020\, United States
END:VEVENT
END:VCALENDAR