BEGIN:VCALENDAR
VERSION:2.0
PRODID:-//CCANA - ECPv6.15.20//NONSGML v1.0//EN
CALSCALE:GREGORIAN
METHOD:PUBLISH
X-WR-CALNAME:CCANA
X-ORIGINAL-URL:https://centralcarolinana.org
X-WR-CALDESC:Events for CCANA
REFRESH-INTERVAL;VALUE=DURATION:PT1H
X-Robots-Tag:noindex
X-PUBLISHED-TTL:PT1H
BEGIN:VTIMEZONE
TZID:America/New_York
BEGIN:DAYLIGHT
TZOFFSETFROM:-0500
TZOFFSETTO:-0400
TZNAME:EDT
DTSTART:20230312T070000
END:DAYLIGHT
BEGIN:STANDARD
TZOFFSETFROM:-0400
TZOFFSETTO:-0500
TZNAME:EST
DTSTART:20231105T060000
END:STANDARD
BEGIN:DAYLIGHT
TZOFFSETFROM:-0500
TZOFFSETTO:-0400
TZNAME:EDT
DTSTART:20240310T070000
END:DAYLIGHT
BEGIN:STANDARD
TZOFFSETFROM:-0400
TZOFFSETTO:-0500
TZNAME:EST
DTSTART:20241103T060000
END:STANDARD
BEGIN:DAYLIGHT
TZOFFSETFROM:-0500
TZOFFSETTO:-0400
TZNAME:EDT
DTSTART:20250309T070000
END:DAYLIGHT
BEGIN:STANDARD
TZOFFSETFROM:-0400
TZOFFSETTO:-0500
TZNAME:EST
DTSTART:20251102T060000
END:STANDARD
END:VTIMEZONE
BEGIN:VEVENT
DTSTART;TZID=America/New_York:20240530T173000
DTEND;TZID=America/New_York:20240530T183000
DTSTAMP:20260424T101607
CREATED:20240527T135901Z
LAST-MODIFIED:20240528T012832Z
UID:1876-1717090200-1717093800@centralcarolinana.org
SUMMARY:Cliff S. Celebration!!
DESCRIPTION:Come celebrate Cliff S. 21yrs. Bring yourself and food if possible! Food and Fellowship afterwards.
URL:https://centralcarolinana.org/event/cliff-s-celebration/
LOCATION:Serenity at Sunset\, 3215 Platt Springs Rd\, West Columbia\, SC\, 29170\, United States
END:VEVENT
BEGIN:VEVENT
DTSTART;TZID=America/New_York:20240519T150000
DTEND;TZID=America/New_York:20240519T170000
DTSTAMP:20260424T101607
CREATED:20240507T204731Z
LAST-MODIFIED:20240507T204731Z
UID:1853-1716130800-1716138000@centralcarolinana.org
SUMMARY:ASC Meeting
DESCRIPTION:Come learn about Area Service at our monthy meeting.  Several Open Positions!
URL:https://centralcarolinana.org/event/asc-meeting/
LOCATION:Naturally High\, 5220 Clemson Ave\, Columbia\, 29204\, United States
END:VEVENT
BEGIN:VEVENT
DTSTART;TZID=America/New_York:20240519T133000
DTEND;TZID=America/New_York:20240519T140000
DTSTAMP:20260424T101607
CREATED:20240517T220318Z
LAST-MODIFIED:20240517T220318Z
UID:1858-1716125400-1716127200@centralcarolinana.org
SUMMARY:Policy and Procedure Meeting
DESCRIPTION:Come help serve on the Policy and Procedure Sub-Committee.
URL:https://centralcarolinana.org/event/policy-and-procedure-meeting/
LOCATION:Cayce Starbucks\, 727 Knox Abbott Drive\, Cayce\, SC\, 29033\, United States
END:VEVENT
BEGIN:VEVENT
DTSTART;TZID=America/New_York:20240518T090000
DTEND;TZID=America/New_York:20240518T120000
DTSTAMP:20260424T101607
CREATED:20240518T115220Z
LAST-MODIFIED:20240518T115220Z
UID:1862-1716022800-1716033600@centralcarolinana.org
SUMMARY:Welcome Home Pancake Brunch Fundraiser
DESCRIPTION:Come out and enjoy some pancakes and help support our annual Welcome Home Convention.  No addict turned away!
URL:https://centralcarolinana.org/event/welcome-home-pancake-brunch-fundraiser/
LOCATION:Next Right Thing\, 1600 12th Street\, Cayce\, SC\, 29033\, United States
ATTACH;FMTTYPE=image/jpeg:https://centralcarolinana.org/wp-content/uploads/2024/05/pancakes.jpg
END:VEVENT
BEGIN:VEVENT
DTSTART;TZID=America/New_York:20240511T140000
DTEND;TZID=America/New_York:20240511T170000
DTSTAMP:20260424T101607
CREATED:20240427T192910Z
LAST-MODIFIED:20240427T192910Z
UID:1846-1715436000-1715446800@centralcarolinana.org
SUMMARY:PR Sign Drive
DESCRIPTION:Come help PR put out signs to help carry the message of Narcotics Anonymous.  Food and Fellowship to follow after.
URL:https://centralcarolinana.org/event/pr-sign-drive/
LOCATION:West Columbia Riverfront Park and Amphitheatre\, 109 Alexander Road\, West Columbia\, SC\, 29169\, United States
ATTACH;FMTTYPE=image/png:https://centralcarolinana.org/wp-content/uploads/2024/04/flyer-for-the-sign-drive.png
END:VEVENT
BEGIN:VEVENT
DTSTART;TZID=America/New_York:20240504T180000
DTEND;TZID=America/New_York:20240504T190000
DTSTAMP:20260424T101607
CREATED:20240420T200043Z
LAST-MODIFIED:20240420T200043Z
UID:1843-1714845600-1714849200@centralcarolinana.org
SUMMARY:Welcome Home Business Meeting
DESCRIPTION:
URL:https://centralcarolinana.org/event/welcome-home-business-meeting-4/
LOCATION:Starbucks W. Columbia\, 2408 Augusta Rd.\, West Columbia\, SC\, 29169\, United States
END:VEVENT
BEGIN:VEVENT
DTSTART;TZID=America/New_York:20240425T173000
DTEND;TZID=America/New_York:20240425T183000
DTSTAMP:20260424T101607
CREATED:20240420T195848Z
LAST-MODIFIED:20240420T195848Z
UID:1840-1714066200-1714069800@centralcarolinana.org
SUMMARY:Celebration at Serenity at Sunset
DESCRIPTION:Come celebrate Doreens 2 years! Food and fellowship afterwards.
URL:https://centralcarolinana.org/event/celebration-at-serenity-at-sunset-3/
LOCATION:Serenity at Sunset\, 3215 Platt Springs Rd\, West Columbia\, SC\, 29170\, United States
END:VEVENT
BEGIN:VEVENT
DTSTART;TZID=America/New_York:20240420T130000
DTEND;TZID=America/New_York:20240420T160000
DTSTAMP:20260424T101607
CREATED:20240330T214904Z
LAST-MODIFIED:20240330T214904Z
UID:1822-1713618000-1713628800@centralcarolinana.org
SUMMARY:Welcome Home Potted Plants Fundraising Event
DESCRIPTION:$12 – Potted plants\, painting pots and lunch will be provided!
URL:https://centralcarolinana.org/event/welcome-home-potted-plants-fundraising-event/
LOCATION:Cayce Riverwalk Pavilion\, 201 Naples Ave\, Cayce\, SC\, 29033\, United States
END:VEVENT
BEGIN:VEVENT
DTSTART;TZID=America/New_York:20240419T183000
DTEND;TZID=America/New_York:20240419T193000
DTSTAMP:20260424T101607
CREATED:20240310T005931Z
LAST-MODIFIED:20240310T005931Z
UID:1797-1713551400-1713555000@centralcarolinana.org
SUMMARY:Next Right Thing Celebration
DESCRIPTION:Come help Margaret R. celebrate 10 years! Phyllis B. will be speaking.
URL:https://centralcarolinana.org/event/next-right-thing-celebration-2/
LOCATION:Next Right Thing\, 1600 12th Street\, Cayce\, SC\, 29033\, United States
END:VEVENT
BEGIN:VEVENT
DTSTART;TZID=America/New_York:20240414T150000
DTEND;TZID=America/New_York:20240414T170000
DTSTAMP:20260424T101607
CREATED:20240316T212405Z
LAST-MODIFIED:20240316T212405Z
UID:1820-1713106800-1713114000@centralcarolinana.org
SUMMARY:CCANA ASC Meeting
DESCRIPTION:
URL:https://centralcarolinana.org/event/ccana-asc-meeting/
LOCATION:Hope Hole\, 1600 12th Street\, Cayce\, SC\, 29033\, United States
END:VEVENT
BEGIN:VEVENT
DTSTART;TZID=America/New_York:20240414T133000
DTEND;TZID=America/New_York:20240414T143000
DTSTAMP:20260424T101607
CREATED:20240316T210638Z
LAST-MODIFIED:20240316T212240Z
UID:1811-1713101400-1713105000@centralcarolinana.org
SUMMARY:Policy Committe Meeting
DESCRIPTION:
URL:https://centralcarolinana.org/event/policy-committe-meeting/
LOCATION:Cayce Starbucks\, 727 Knox Abbott Drive\, Cayce\, SC\, 29033\, United States
END:VEVENT
BEGIN:VEVENT
DTSTART;TZID=America/New_York:20240406T193000
DTEND;TZID=America/New_York:20240406T210000
DTSTAMP:20260424T101607
CREATED:20240316T211855Z
LAST-MODIFIED:20240316T211855Z
UID:1818-1712431800-1712437200@centralcarolinana.org
SUMMARY:Celebration at Rainbow Group
DESCRIPTION:Come help celebrate Gary E. 37yrs and Bobby S. 19yrs!
URL:https://centralcarolinana.org/event/celebration-at-rainbow-group-2/
LOCATION:Rainbow Group\, 129 N Washington St\, Sumter\, SC\, 29150\, United States
END:VEVENT
BEGIN:VEVENT
DTSTART;TZID=America/New_York:20240406T180000
DTEND;TZID=America/New_York:20240406T190000
DTSTAMP:20260424T101607
CREATED:20240310T010535Z
LAST-MODIFIED:20240310T010535Z
UID:1799-1712426400-1712430000@centralcarolinana.org
SUMMARY:Welcome Home Business Meeting
DESCRIPTION:
URL:https://centralcarolinana.org/event/welcome-home-business-meeting-3/
LOCATION:Starbucks W. Columbia\, 2408 Augusta Rd.\, West Columbia\, SC\, 29169\, United States
END:VEVENT
BEGIN:VEVENT
DTSTART;TZID=America/New_York:20240328T173000
DTEND;TZID=America/New_York:20240328T183000
DTSTAMP:20260424T101607
CREATED:20240316T210837Z
LAST-MODIFIED:20240316T210911Z
UID:1814-1711647000-1711650600@centralcarolinana.org
SUMMARY:Celebration at Serenity at Sunset
DESCRIPTION:Come help Gracie G. celebrate 2 yrs! Emily E. will be speaking!
URL:https://centralcarolinana.org/event/celebration-at-serenity-at-sunset-2/
LOCATION:Serenity at Sunset\, 3215 Platt Springs Rd\, West Columbia\, SC\, 29170\, United States
END:VEVENT
BEGIN:VEVENT
DTSTART;TZID=America/New_York:20240326T183000
DTEND;TZID=America/New_York:20240326T193000
DTSTAMP:20260424T101607
CREATED:20240223T154207Z
LAST-MODIFIED:20240223T154207Z
UID:1768-1711477800-1711481400@centralcarolinana.org
SUMMARY:Ladies' Night Celebration
DESCRIPTION:Come help Jaime celebrate 3years and Bridget’s 18 months with a Gratitude meeting!
URL:https://centralcarolinana.org/event/ladies-night-celebration/
LOCATION:Ladies’ Night\, 1000 B Ave.\, West Columbia\, SC\, 29169\, United States
END:VEVENT
BEGIN:VEVENT
DTSTART;TZID=America/New_York:20240324T130000
DTEND;TZID=America/New_York:20240324T160000
DTSTAMP:20260424T101607
CREATED:20240208T154054Z
LAST-MODIFIED:20240208T154054Z
UID:1748-1711285200-1711296000@centralcarolinana.org
SUMMARY:Welcome Home Fundraising Event
DESCRIPTION:“I ate a pie & tie dye”\nBring clothes to tie dye and come to eat pie!\n$10 per person
URL:https://centralcarolinana.org/event/welcome-home-fundraising-event/
LOCATION:Cayce Riverwalk Pavilion\, 201 Naples Ave\, Cayce\, SC\, 29033\, United States
END:VEVENT
BEGIN:VEVENT
DTSTART;TZID=America/New_York:20240323T183000
DTEND;TZID=America/New_York:20240323T193000
DTSTAMP:20260424T101607
CREATED:20240310T005748Z
LAST-MODIFIED:20240310T005748Z
UID:1795-1711218600-1711222200@centralcarolinana.org
SUMMARY:Next Right Thing Celebration
DESCRIPTION:Come help Kerri S. celebrate 28 years! Format tbd.
URL:https://centralcarolinana.org/event/next-right-thing-celebration/
LOCATION:Next Right Thing\, 1600 12th Street\, Cayce\, SC\, 29033\, United States
END:VEVENT
BEGIN:VEVENT
DTSTART;TZID=America/New_York:20240321T193000
DTEND;TZID=America/New_York:20240321T203000
DTSTAMP:20260424T101607
CREATED:20240312T230244Z
LAST-MODIFIED:20240312T230244Z
UID:1804-1711049400-1711053000@centralcarolinana.org
SUMMARY:Celebration @ A New Perspective
DESCRIPTION:Andrew B will be celebrating 15 years and Chris M will be celebrating 29 years.  Judd W is the speaker.
URL:https://centralcarolinana.org/event/celebration-a-new-perspective-2/
LOCATION:A New Perspective\, 735 Old Lexington Hwy\, Chapin\, SC\, 29036\, United States
END:VEVENT
BEGIN:VEVENT
DTSTART;TZID=America/New_York:20240316T120000
DTEND;TZID=America/New_York:20240316T170000
DTSTAMP:20260424T101607
CREATED:20240113T190921Z
LAST-MODIFIED:20240113T145838Z
UID:1677-1710590400-1710608400@centralcarolinana.org
SUMMARY:PR Learning Day/Chili Cook-Off/St. Paddy's Day Bash
DESCRIPTION:Come learn about Public Relations and how we cooperate with our Community to carry the Message of Narcotics Anonymous.  Come decked out in all of your Irish Gear!  Chili Contestants should be set up no later than 12:30 pm.  We will provide bowls and cutlery\, but if you have any special toppings you wish to include\, please bring them with you.  We will begin serving Hamburgers\, Hot Dogs\, Chips\, and drinks from 1pm-2:45pm\, followed by our PR Presentation.  We will have a guest speaker\, Brian M. from Charlotte\, sharing his story at 3:15pm.  Winners of the Chili-Cook off and best outfit will be announced after the speaker.  Prizes for best dressed and 1st Place/Runner up in the Chili Cook-Off!
URL:https://centralcarolinana.org/event/pr-learning-day-chili-cook-off/
LOCATION:Providence Presbyterian Church\, 1112 Hummingbird Drive\, West Columbia\, SC\, 29169\, United States
ATTACH;FMTTYPE=image/jpeg:https://centralcarolinana.org/wp-content/uploads/2024/01/chili-cookoff.jpg
END:VEVENT
BEGIN:VEVENT
DTSTART;TZID=America/New_York:20240316T080000
DTEND;TZID=America/New_York:20240316T170000
DTSTAMP:20260424T101607
CREATED:20240316T210314Z
LAST-MODIFIED:20240316T210314Z
UID:1809-1710576000-1710608400@centralcarolinana.org
SUMMARY:Celebration at Rainbow Group
DESCRIPTION:Come help Gary E. celebrate 37yrs and Bobby S. 19yrs!
URL:https://centralcarolinana.org/event/celebration-at-rainbow-group/
LOCATION:Rainbow Group\, 129 N Washington St\, Sumter\, SC\, 29150\, United States
END:VEVENT
BEGIN:VEVENT
DTSTART;TZID=America/New_York:20240310T150000
DTEND;TZID=America/New_York:20240310T170000
DTSTAMP:20260424T101607
CREATED:20240228T192616Z
LAST-MODIFIED:20240228T192616Z
UID:1774-1710082800-1710090000@centralcarolinana.org
SUMMARY:Area meeting
DESCRIPTION:CCANA meets the 2nd Sunday of every month. Come out to get involved.
URL:https://centralcarolinana.org/event/area-meeting/
LOCATION:Naturally High\, 5220 Clemson Ave\, Columbia\, 29204\, United States
END:VEVENT
BEGIN:VEVENT
DTSTART;TZID=America/New_York:20240309T180000
DTEND;TZID=America/New_York:20240309T190000
DTSTAMP:20260424T101607
CREATED:20240222T182826Z
LAST-MODIFIED:20240222T182826Z
UID:1764-1710007200-1710010800@centralcarolinana.org
SUMMARY:Welcome Home Business Meeting
DESCRIPTION:Welcome Home Business Meeting
URL:https://centralcarolinana.org/event/welcome-home-business-meeting-2/
LOCATION:Starbucks W. Columbia\, 2408 Augusta Rd.\, West Columbia\, SC\, 29169\, United States
END:VEVENT
BEGIN:VEVENT
DTSTART;TZID=America/New_York:20240307T190000
DTEND;TZID=America/New_York:20240307T200000
DTSTAMP:20260424T101607
CREATED:20240228T192152Z
LAST-MODIFIED:20240228T192152Z
UID:1772-1709838000-1709841600@centralcarolinana.org
SUMMARY:Celebration at Ave. Q
DESCRIPTION:Come celebrate Scott (20yrs) Derrick (33yrs) and Paula (18mths)!
URL:https://centralcarolinana.org/event/celebration-at-ave-q/
LOCATION:Avenue Q\, 2827 Wheat Street Rm 215\, Columbia\, SC\, 29205\, United States
END:VEVENT
BEGIN:VEVENT
DTSTART;TZID=America/New_York:20240301T183000
DTEND;TZID=America/New_York:20240301T193000
DTSTAMP:20260424T101607
CREATED:20240128T180704Z
LAST-MODIFIED:20240223T154328Z
UID:1736-1709317800-1709321400@centralcarolinana.org
SUMMARY:Celebration @ Next Right Thing
DESCRIPTION:Come help us celebrate Connor with 3 years and Rick W./Chris F. with 5 years. Format is Gratitude meeting.  Going to dinner afterwards!
URL:https://centralcarolinana.org/event/celebration-next-right-thing/
LOCATION:Next Right Thing\, 1600 12th Street\, Cayce\, SC\, 29033\, United States
END:VEVENT
BEGIN:VEVENT
DTSTART;TZID=America/New_York:20240229T173000
DTEND;TZID=America/New_York:20240229T190000
DTSTAMP:20260424T101607
CREATED:20240213T175019Z
LAST-MODIFIED:20240213T175019Z
UID:1760-1709227800-1709233200@centralcarolinana.org
SUMMARY:Celebration at Serenity at Sunset!
DESCRIPTION:Come help celebrate Ashley’s 6yrs and Britney’s 4yrs!\nMeeting at 5:30pm\, food and fellowship afterwards.
URL:https://centralcarolinana.org/event/celebration-at-serenity-at-sunset/
LOCATION:Serenity at Sunset\, 3215 Platt Springs Rd\, West Columbia\, SC\, 29170\, United States
END:VEVENT
BEGIN:VEVENT
DTSTART;TZID=America/New_York:20240224T210000
DTEND;TZID=America/New_York:20240224T220000
DTSTAMP:20260424T101607
CREATED:20240203T150225Z
LAST-MODIFIED:20240208T162105Z
UID:1742-1708808400-1708812000@centralcarolinana.org
SUMMARY:Celebration for Dusty D. \, Charlotte H. and Becca D.
DESCRIPTION:Come celebrate Dusty’s 2 years\, Charlotte’s 8 years and Becca’s 19 years! Tiffany W. is speaking!
URL:https://centralcarolinana.org/event/celebration-for-dusty-d-charlotte-h-and-becca-d/
LOCATION:Hope Hole\, 1600 12th Street\, Cayce\, SC\, 29033\, United States
END:VEVENT
BEGIN:VEVENT
DTSTART;TZID=America/New_York:20240222T193000
DTEND;TZID=America/New_York:20240222T203000
DTSTAMP:20260424T101607
CREATED:20240208T161552Z
LAST-MODIFIED:20240208T161552Z
UID:1751-1708630200-1708633800@centralcarolinana.org
SUMMARY:Celebration for Patrick P.& Duncan
DESCRIPTION:Come celebrate Patrick P.’s 32 years and Duncan’s 14 years at A New Perspective! There will be an out of town speaker.
URL:https://centralcarolinana.org/event/celebration-for-patrick-p-duncan/
LOCATION:A New Perspective\, 735 Old Lexington Hwy\, Chapin\, SC\, 29036\, United States
END:VEVENT
BEGIN:VEVENT
DTSTART;TZID=America/New_York:20240217T190000
DTEND;TZID=America/New_York:20240217T200000
DTSTAMP:20260424T101607
CREATED:20240203T145953Z
LAST-MODIFIED:20240203T145953Z
UID:1739-1708196400-1708200000@centralcarolinana.org
SUMMARY:Welcome Home Business Meeting
DESCRIPTION:
URL:https://centralcarolinana.org/event/welcome-home-business-meeting/
LOCATION:Cayce Starbucks\, 727 Knox Abbott Drive\, Cayce\, SC\, 29033\, United States
END:VEVENT
BEGIN:VEVENT
DTSTART;TZID=America/New_York:20240215T183000
DTEND;TZID=America/New_York:20240215T203000
DTSTAMP:20260424T101607
CREATED:20240121T170736Z
LAST-MODIFIED:20240121T171039Z
UID:1727-1708021800-1708029000@centralcarolinana.org
SUMMARY:Valentine's Spagetti Dinner
DESCRIPTION:Event will be held in fellowship hall; parking is in the front. Spagetti (meat and no meat option)\, drinks and cookies will be provided.
URL:https://centralcarolinana.org/event/valentines-spagetti-dinner/
LOCATION:Next Right Thing\, 1600 12th Street\, Cayce\, SC\, 29033\, United States
ATTACH;FMTTYPE=image/png:https://centralcarolinana.org/wp-content/uploads/2024/01/Valentins-Day-Spagetti-Dinner.png
END:VEVENT
BEGIN:VEVENT
DTSTART;TZID=America/New_York:20240204T190000
DTEND;TZID=America/New_York:20240204T200000
DTSTAMP:20260424T101607
CREATED:20240115T000135Z
LAST-MODIFIED:20240115T000135Z
UID:1721-1707073200-1707076800@centralcarolinana.org
SUMMARY:Celebration @ Building Recovery
DESCRIPTION:Come help us celebrate Butch and Henry.
URL:https://centralcarolinana.org/event/celebration-building-recovery/
LOCATION:Building Recovery\, 2909 Old Barnwell Rd.\, Lexington\, SC\, 29073\, United States
END:VEVENT
END:VCALENDAR