BEGIN:VCALENDAR
VERSION:2.0
PRODID:-//CCANA - ECPv6.15.20//NONSGML v1.0//EN
CALSCALE:GREGORIAN
METHOD:PUBLISH
X-WR-CALNAME:CCANA
X-ORIGINAL-URL:https://centralcarolinana.org
X-WR-CALDESC:Events for CCANA
REFRESH-INTERVAL;VALUE=DURATION:PT1H
X-Robots-Tag:noindex
X-PUBLISHED-TTL:PT1H
BEGIN:VTIMEZONE
TZID:America/New_York
BEGIN:DAYLIGHT
TZOFFSETFROM:-0500
TZOFFSETTO:-0400
TZNAME:EDT
DTSTART:20230312T070000
END:DAYLIGHT
BEGIN:STANDARD
TZOFFSETFROM:-0400
TZOFFSETTO:-0500
TZNAME:EST
DTSTART:20231105T060000
END:STANDARD
BEGIN:DAYLIGHT
TZOFFSETFROM:-0500
TZOFFSETTO:-0400
TZNAME:EDT
DTSTART:20240310T070000
END:DAYLIGHT
BEGIN:STANDARD
TZOFFSETFROM:-0400
TZOFFSETTO:-0500
TZNAME:EST
DTSTART:20241103T060000
END:STANDARD
BEGIN:DAYLIGHT
TZOFFSETFROM:-0500
TZOFFSETTO:-0400
TZNAME:EDT
DTSTART:20250309T070000
END:DAYLIGHT
BEGIN:STANDARD
TZOFFSETFROM:-0400
TZOFFSETTO:-0500
TZNAME:EST
DTSTART:20251102T060000
END:STANDARD
END:VTIMEZONE
BEGIN:VEVENT
DTSTART;TZID=America/New_York:20240127T193000
DTEND;TZID=America/New_York:20240127T203000
DTSTAMP:20260425T225149
CREATED:20240114T234013Z
LAST-MODIFIED:20240114T234013Z
UID:1713-1706383800-1706387400@centralcarolinana.org
SUMMARY:Celebration @ 2nd Chance
DESCRIPTION:Come help us celebrate Greg B\, Courtney D\, and Nancy L.  Tiff W. will be the speaker.
URL:https://centralcarolinana.org/event/celebration-2nd-chance/
LOCATION:Second Chance\, 7068 Nursery Road\, Columbia\, SC\, 29212\, United States
END:VEVENT
BEGIN:VEVENT
DTSTART;TZID=America/New_York:20240127T180000
DTEND;TZID=America/New_York:20240127T193000
DTSTAMP:20260425T225149
CREATED:20240114T234409Z
LAST-MODIFIED:20240114T234409Z
UID:1717-1706378400-1706383800@centralcarolinana.org
SUMMARY:Celebration @ Rays of Hope
DESCRIPTION:Come help us celebrate Roxanne!
URL:https://centralcarolinana.org/event/celebration-rays-of-hope/
LOCATION:Rays of Hope\, 1052 Prescott Road\, Columbia\, SC\, 2920\, United States
END:VEVENT
BEGIN:VEVENT
DTSTART;TZID=America/New_York:20240120T210000
DTEND;TZID=America/New_York:20240120T220000
DTSTAMP:20260425T225149
CREATED:20240115T000753Z
LAST-MODIFIED:20240115T000753Z
UID:1724-1705784400-1705788000@centralcarolinana.org
SUMMARY:Celebration @ Hope Hole
DESCRIPTION:Come help us celebrate Tiffany B.!
URL:https://centralcarolinana.org/event/celebration-hope-hole/
LOCATION:Hope Hole\, 1600 12th Street\, Cayce\, SC\, 29033\, United States
END:VEVENT
BEGIN:VEVENT
DTSTART;TZID=America/New_York:20240120T190000
DTEND;TZID=America/New_York:20240120T200000
DTSTAMP:20260425T225149
CREATED:20240114T232703Z
LAST-MODIFIED:20240114T232802Z
UID:1700-1705777200-1705780800@centralcarolinana.org
SUMMARY:Welcome Home Committee Meeting
DESCRIPTION:Come help us plan our Area’s Convention.  Any addict is encouraged to attend and has something to offer.
URL:https://centralcarolinana.org/event/welcome-home-committee-meeting/
LOCATION:Starbucks W. Columbia\, 2408 Augusta Rd.\, West Columbia\, SC\, 29169\, United States
END:VEVENT
BEGIN:VEVENT
DTSTART;TZID=America/New_York:20240118T193000
DTEND;TZID=America/New_York:20240118T203000
DTSTAMP:20260425T225149
CREATED:20240114T233711Z
LAST-MODIFIED:20240114T233711Z
UID:1710-1705606200-1705609800@centralcarolinana.org
SUMMARY:Celebration @ A New Perspective
DESCRIPTION:Come help us celebrate Trey M. and Mike G.  Cliff L. will be speaking.
URL:https://centralcarolinana.org/event/celebration-a-new-perspective/
LOCATION:A New Perspective\, 735 Old Lexington Hwy\, Chapin\, SC\, 29036\, United States
END:VEVENT
END:VCALENDAR