BEGIN:VCALENDAR
VERSION:2.0
PRODID:-//CCANA - ECPv6.15.20//NONSGML v1.0//EN
CALSCALE:GREGORIAN
METHOD:PUBLISH
X-WR-CALNAME:CCANA
X-ORIGINAL-URL:https://centralcarolinana.org
X-WR-CALDESC:Events for CCANA
REFRESH-INTERVAL;VALUE=DURATION:PT1H
X-Robots-Tag:noindex
X-PUBLISHED-TTL:PT1H
BEGIN:VTIMEZONE
TZID:America/New_York
BEGIN:DAYLIGHT
TZOFFSETFROM:-0500
TZOFFSETTO:-0400
TZNAME:EDT
DTSTART:20230312T070000
END:DAYLIGHT
BEGIN:STANDARD
TZOFFSETFROM:-0400
TZOFFSETTO:-0500
TZNAME:EST
DTSTART:20231105T060000
END:STANDARD
BEGIN:DAYLIGHT
TZOFFSETFROM:-0500
TZOFFSETTO:-0400
TZNAME:EDT
DTSTART:20240310T070000
END:DAYLIGHT
BEGIN:STANDARD
TZOFFSETFROM:-0400
TZOFFSETTO:-0500
TZNAME:EST
DTSTART:20241103T060000
END:STANDARD
BEGIN:DAYLIGHT
TZOFFSETFROM:-0500
TZOFFSETTO:-0400
TZNAME:EDT
DTSTART:20250309T070000
END:DAYLIGHT
BEGIN:STANDARD
TZOFFSETFROM:-0400
TZOFFSETTO:-0500
TZNAME:EST
DTSTART:20251102T060000
END:STANDARD
END:VTIMEZONE
BEGIN:VEVENT
DTSTART;TZID=America/New_York:20240909T183000
DTEND;TZID=America/New_York:20240909T193000
DTSTAMP:20260425T165921
CREATED:20240903T002359Z
LAST-MODIFIED:20240903T002359Z
UID:2035-1725906600-1725910200@centralcarolinana.org
SUMMARY:Brother Earl celebration at Next Right Thing
DESCRIPTION:Come help brother Earl celebrate 19 years at Next Right Thing! Phyllis B. and Charles will be speaking.
URL:https://centralcarolinana.org/event/brother-earl-celebration-at-next-right-thing/
LOCATION:Next Right Thing\, 1600 12th Street\, Cayce\, SC\, 29033\, United States
END:VEVENT
BEGIN:VEVENT
DTSTART;TZID=America/New_York:20240909T183000
DTEND;TZID=America/New_York:20240909T193000
DTSTAMP:20260425T165921
CREATED:20240712T191035Z
LAST-MODIFIED:20240823T122247Z
UID:1943-1725906600-1725910200@centralcarolinana.org
SUMMARY:RECOVERY UNDER THE STARS COMMITTEE MEETING
DESCRIPTION:Come on out if you want to help support the Campout this year.  There are all types of service opportunities available.  No clean time requirement to serve!
URL:https://centralcarolinana.org/event/recovery-under-the-stars-committee-meeting/
LOCATION:Cayce Starbucks\, 727 Knox Abbott Drive\, Cayce\, SC\, 29033\, United States
END:VEVENT
BEGIN:VEVENT
DTSTART;TZID=America/New_York:20240908T150000
DTEND;TZID=America/New_York:20240908T160000
DTSTAMP:20260425T165921
CREATED:20240903T000743Z
LAST-MODIFIED:20240903T000743Z
UID:2020-1725807600-1725811200@centralcarolinana.org
SUMMARY:Area Service Committee Meeting
DESCRIPTION:
URL:https://centralcarolinana.org/event/area-service-committee-meeting-2/
LOCATION:Freedom Group\, 1104 Church St\, Camden\, SC\, 29020\, United States
END:VEVENT
BEGIN:VEVENT
DTSTART;TZID=America/New_York:20240908T140000
DTEND;TZID=America/New_York:20240908T150000
DTSTAMP:20260425T165921
CREATED:20240903T000852Z
LAST-MODIFIED:20240903T000852Z
UID:2023-1725804000-1725807600@centralcarolinana.org
SUMMARY:Policy & Procedure Committee Meeting
DESCRIPTION:
URL:https://centralcarolinana.org/event/policy-procedure-committee-meeting/
LOCATION:Freedom Group\, 1104 Church St\, Camden\, SC\, 29020\, United States
END:VEVENT
BEGIN:VEVENT
DTSTART;VALUE=DATE:20240906
DTEND;VALUE=DATE:20240908
DTSTAMP:20260425T165921
CREATED:20240527T151201Z
LAST-MODIFIED:20250416T223805Z
UID:1881-1725580800-1725753599@centralcarolinana.org
SUMMARY:Welcome Home Convention
DESCRIPTION:
URL:https://centralcarolinana.org/event/welcome-home-convention-xxvii/
LOCATION:Courtyard by Marriott\, 630 Assembly St.\, Columbia\, SC\, 29212\, United States
ATTACH;FMTTYPE=application/pdf:https://centralcarolinana.org/wp-content/uploads/2024/05/WH-Flyer-5.pdf
END:VEVENT
BEGIN:VEVENT
DTSTART;TZID=America/New_York:20240901T150000
DTEND;TZID=America/New_York:20240901T160000
DTSTAMP:20260425T165921
CREATED:20240816T230045Z
LAST-MODIFIED:20240816T230045Z
UID:2011-1725202800-1725206400@centralcarolinana.org
SUMMARY:Welcome Home Subcommittee meeting
DESCRIPTION:
URL:https://centralcarolinana.org/event/welcome-home-subcommittee-meeting/
LOCATION:Starbucks W. Columbia\, 2408 Augusta Rd.\, West Columbia\, SC\, 29169\, United States
END:VEVENT
BEGIN:VEVENT
DTSTART;TZID=America/New_York:20240831T100000
DTEND;TZID=America/New_York:20240831T180000
DTSTAMP:20260425T165921
CREATED:20240811T133722Z
LAST-MODIFIED:20240811T133722Z
UID:1994-1725098400-1725127200@centralcarolinana.org
SUMMARY:Dreher Island Cookout
DESCRIPTION:Come enjoy swimming\, games\, fun\, food and fellowship!
URL:https://centralcarolinana.org/event/dreher-island-cookout-2/
LOCATION:Dreher Island\, 3677 State Park Rd.\, Prosperity\, SC\, 29127\, United States
ATTACH;FMTTYPE=image/jpeg:https://centralcarolinana.org/wp-content/uploads/2024/08/Dreher-Island-2024.jpg
END:VEVENT
BEGIN:VEVENT
DTSTART;TZID=America/New_York:20240829T190000
DTEND;TZID=America/New_York:20240829T200000
DTSTAMP:20260425T165921
CREATED:20240823T122610Z
LAST-MODIFIED:20240823T122728Z
UID:2014-1724958000-1724961600@centralcarolinana.org
SUMMARY:Celebration @ Avenue Q!
DESCRIPTION:Manda S. celebrating 5 years!  Josh G is the speaker.  Come help us celebrate!
URL:https://centralcarolinana.org/event/2014/
LOCATION:Avenue Q\, 2827 Wheat Street Rm 215\, Columbia\, SC\, 29205\, United States
END:VEVENT
BEGIN:VEVENT
DTSTART;TZID=America/New_York:20240829T173000
DTEND;TZID=America/New_York:20240829T190000
DTSTAMP:20260425T165921
CREATED:20240811T131408Z
LAST-MODIFIED:20240812T234052Z
UID:1992-1724952600-1724958000@centralcarolinana.org
SUMMARY:Celebration at Serenity at Sunset!
DESCRIPTION:Come celebrate Paula S (37yrs) at Serenity at Sunset. Food and fellowship afterwards! Covered dishes welcome.
URL:https://centralcarolinana.org/event/paula-s-celebration-at-serenity-at-sunset/
LOCATION:Serenity at Sunset\, 3215 Platt Springs Rd\, West Columbia\, SC\, 29170\, United States
END:VEVENT
BEGIN:VEVENT
DTSTART;TZID=America/New_York:20240825T150000
DTEND;TZID=America/New_York:20240825T160000
DTSTAMP:20260425T165921
CREATED:20240728T214157Z
LAST-MODIFIED:20240728T214157Z
UID:1979-1724598000-1724601600@centralcarolinana.org
SUMMARY:H&I Subcommittee Meeting
DESCRIPTION:
URL:https://centralcarolinana.org/event/hi-subcommittee-meeting-2/
LOCATION:Naturally High\, 5220 Clemson Ave\, Columbia\, 29204\, United States
END:VEVENT
BEGIN:VEVENT
DTSTART;TZID=America/New_York:20240825T140000
DTEND;TZID=America/New_York:20240825T150000
DTSTAMP:20260425T165921
CREATED:20240728T214113Z
LAST-MODIFIED:20240728T214113Z
UID:1977-1724594400-1724598000@centralcarolinana.org
SUMMARY:H&I Orientation
DESCRIPTION:
URL:https://centralcarolinana.org/event/hi-orientation/
LOCATION:Naturally High\, 5220 Clemson Ave\, Columbia\, 29204\, United States
END:VEVENT
BEGIN:VEVENT
DTSTART;TZID=America/New_York:20240824T210000
DTEND;TZID=America/New_York:20240824T220000
DTSTAMP:20260425T165921
CREATED:20240812T232447Z
LAST-MODIFIED:20240812T232447Z
UID:2003-1724533200-1724536800@centralcarolinana.org
SUMMARY:Celebration at Hope Hole!
DESCRIPTION:Come help Jesus celebrate 21 years at Hope Hole! Food and Fellowship provided! Jeff will be speaking.
URL:https://centralcarolinana.org/event/celebration-at-hope-hole/
LOCATION:Hope Hole\, 1600 12th Street\, Cayce\, SC\, 29033\, United States
END:VEVENT
BEGIN:VEVENT
DTSTART;TZID=America/New_York:20240819T190000
DTEND;TZID=America/New_York:20240819T200000
DTSTAMP:20260425T165921
CREATED:20240812T233034Z
LAST-MODIFIED:20240812T233535Z
UID:2007-1724094000-1724097600@centralcarolinana.org
SUMMARY:Activities Subcommitte Meeting
DESCRIPTION:
URL:https://centralcarolinana.org/event/activities-subcommitte-meeting/
LOCATION:Starbucks W. Columbia\, 2408 Augusta Rd.\, West Columbia\, SC\, 29169\, United States
END:VEVENT
BEGIN:VEVENT
DTSTART;TZID=America/New_York:20240818T160000
DTEND;TZID=America/New_York:20240818T170000
DTSTAMP:20260425T165921
CREATED:20240721T224255Z
LAST-MODIFIED:20240812T233413Z
UID:1966-1723996800-1724000400@centralcarolinana.org
SUMMARY:Web Subcommittee Meeting
DESCRIPTION:
URL:https://centralcarolinana.org/event/web-committee-meeting/
LOCATION:Starbucks W. Columbia\, 2408 Augusta Rd.\, West Columbia\, SC\, 29169\, United States
END:VEVENT
BEGIN:VEVENT
DTSTART;TZID=America/New_York:20240817T170000
DTEND;TZID=America/New_York:20240817T200000
DTSTAMP:20260425T165921
CREATED:20240808T112843Z
LAST-MODIFIED:20240808T112843Z
UID:1982-1723914000-1723924800@centralcarolinana.org
SUMMARY:Burgers and Bingo Night Fundraiser
DESCRIPTION:Burgers and Bingo Night! \n$15 gets you a burger and 3 games.  NO ADDICT TURNED AWAY. \nPrizes include $25 Amazon Gift Card\, Free Oil Change\, and a $25 Gas Card.  Come enjoy some food\, fun\, and fellowship!
URL:https://centralcarolinana.org/event/burgers-and-bingo-night-fundraiser/
LOCATION:U Can Too\, 2491 Emmanuel Churc Rd.\, West Columbia\, SC\, 29170\, United States
ATTACH;FMTTYPE=application/pdf:https://centralcarolinana.org/wp-content/uploads/2024/08/Fundraiser-5-1.pdf
END:VEVENT
BEGIN:VEVENT
DTSTART;TZID=America/New_York:20240812T180000
DTEND;TZID=America/New_York:20240812T190000
DTSTAMP:20260425T165921
CREATED:20240728T213448Z
LAST-MODIFIED:20240728T213625Z
UID:1971-1723485600-1723489200@centralcarolinana.org
SUMMARY:Activities Subcommittee Meeting
DESCRIPTION:
URL:https://centralcarolinana.org/event/activities-subcommittee-meeting/
LOCATION:Cayce Starbucks\, 727 Knox Abbott Drive\, Cayce\, SC\, 29033\, United States
END:VEVENT
BEGIN:VEVENT
DTSTART;TZID=America/New_York:20240811T150000
DTEND;TZID=America/New_York:20240811T170000
DTSTAMP:20260425T165921
CREATED:20240613T200115Z
LAST-MODIFIED:20240721T001347Z
UID:1930-1723388400-1723395600@centralcarolinana.org
SUMMARY:Area Service Committee Meeting
DESCRIPTION:Come get involved with Service!
URL:https://centralcarolinana.org/event/area-service-committee-meeting/
LOCATION:Next Right Thing\, 1600 12th Street\, Cayce\, SC\, 29033\, United States
END:VEVENT
BEGIN:VEVENT
DTSTART;TZID=America/New_York:20240811T140000
DTEND;TZID=America/New_York:20240811T150000
DTSTAMP:20260425T165921
CREATED:20240613T200209Z
LAST-MODIFIED:20240721T001446Z
UID:1933-1723384800-1723388400@centralcarolinana.org
SUMMARY:Policy and Procedures Committee Meeting
DESCRIPTION:
URL:https://centralcarolinana.org/event/policy-and-procedures-committee-meeting/
LOCATION:Next Right Thing\, 1600 12th Street\, Cayce\, SC\, 29033\, United States
END:VEVENT
BEGIN:VEVENT
DTSTART;TZID=America/New_York:20240810T180000
DTEND;TZID=America/New_York:20240810T190000
DTSTAMP:20260425T165921
CREATED:20240728T213811Z
LAST-MODIFIED:20240728T213811Z
UID:1973-1723312800-1723316400@centralcarolinana.org
SUMMARY:Welcome Home Business Meeting
DESCRIPTION:
URL:https://centralcarolinana.org/event/welcome-home-business-meeting-6/
LOCATION:Starbucks W. Columbia\, 2408 Augusta Rd.\, West Columbia\, SC\, 29169\, United States
END:VEVENT
BEGIN:VEVENT
DTSTART;TZID=America/New_York:20240728T140000
DTEND;TZID=America/New_York:20240728T160000
DTSTAMP:20260425T165921
CREATED:20240721T224031Z
LAST-MODIFIED:20240721T224338Z
UID:1963-1722175200-1722182400@centralcarolinana.org
SUMMARY:H&I Committee Meeting
DESCRIPTION:Orientation starts at 2:15pm\, business meeting starts at 3pm.
URL:https://centralcarolinana.org/event/hi/
LOCATION:Naturally High\, 5220 Clemson Ave\, Columbia\, 29204\, United States
END:VEVENT
BEGIN:VEVENT
DTSTART;TZID=America/New_York:20240728T140000
DTEND;TZID=America/New_York:20240728T150000
DTSTAMP:20260425T165921
CREATED:20240714T173821Z
LAST-MODIFIED:20240721T001306Z
UID:1947-1722175200-1722178800@centralcarolinana.org
SUMMARY:PR Committee Meeting
DESCRIPTION:Come join us and help carry the message of Narcotics Anonymous.  We have several opportunities for service.  No clean time requirement to serve!  Any and all ideas welcome!
URL:https://centralcarolinana.org/event/pr-committee-meeting/
LOCATION:Naturally High\, 5220 Clemson Ave\, Columbia\, 29204\, United States
END:VEVENT
BEGIN:VEVENT
DTSTART;TZID=America/New_York:20240727T180000
DTEND;TZID=America/New_York:20240727T190000
DTSTAMP:20260425T165921
CREATED:20240721T223851Z
LAST-MODIFIED:20240721T223851Z
UID:1961-1722103200-1722106800@centralcarolinana.org
SUMMARY:Welcome Home Meeting
DESCRIPTION:
URL:https://centralcarolinana.org/event/welcome-home-meeting/
LOCATION:Starbucks W. Columbia\, 2408 Augusta Rd.\, West Columbia\, SC\, 29169\, United States
END:VEVENT
BEGIN:VEVENT
DTSTART;TZID=America/New_York:20240725T173000
DTEND;TZID=America/New_York:20240725T190000
DTSTAMP:20260425T165921
CREATED:20240714T174404Z
LAST-MODIFIED:20240714T174446Z
UID:1951-1721928600-1721934000@centralcarolinana.org
SUMMARY:Celebration at Serenity at Sunset
DESCRIPTION:Come help celebrate Brooke S. (7yrs)\, Monty B. (8yrs) and John K. (37yrs). Kent E. will be sharing his ESH. Food and fellowship will follow after the meeting. Covered dish dinner\, please feel free to bring something to share.
URL:https://centralcarolinana.org/event/celebration-at-serenity-at-sunset-4/
LOCATION:Serenity at Sunset\, 3215 Platt Springs Rd\, West Columbia\, SC\, 29170\, United States
END:VEVENT
BEGIN:VEVENT
DTSTART;TZID=America/New_York:20240722T180000
DTEND;TZID=America/New_York:20240722T190000
DTSTAMP:20260425T165921
CREATED:20240721T002428Z
LAST-MODIFIED:20240721T002428Z
UID:1955-1721671200-1721674800@centralcarolinana.org
SUMMARY:Activities Committee Meeting
DESCRIPTION:
URL:https://centralcarolinana.org/event/activities-committee-meeting/
LOCATION:Piecewise Coffee Company\, 2001 State Street\, Cayce\, SC\, 29033\, United States
END:VEVENT
BEGIN:VEVENT
DTSTART;TZID=America/New_York:20240721T160000
DTEND;TZID=America/New_York:20240721T170000
DTSTAMP:20260425T165921
CREATED:20240721T001625Z
LAST-MODIFIED:20240721T001625Z
UID:1953-1721577600-1721581200@centralcarolinana.org
SUMMARY:Web Servant Committee Meeting
DESCRIPTION:Come help us improve our Area’s Website to better carry the message of NA
URL:https://centralcarolinana.org/event/web-servant-committee-meeting/
LOCATION:Starbucks W. Columbia\, 2408 Augusta Rd.\, West Columbia\, SC\, 29169\, United States
END:VEVENT
BEGIN:VEVENT
DTSTART;TZID=America/New_York:20240720T120000
DTEND;TZID=America/New_York:20240720T230000
DTSTAMP:20260425T165921
CREATED:20240316T205614Z
LAST-MODIFIED:20240316T205614Z
UID:1806-1721476800-1721516400@centralcarolinana.org
SUMMARY:17th Annual Rainbow Group Speaker Jam
DESCRIPTION:
URL:https://centralcarolinana.org/event/17th-annual-rainbow-group-speaker-jam/
LOCATION:803 Harvin St.\, 803 Harvin St.\, Sumter\, SC\, 29150\, United States
END:VEVENT
BEGIN:VEVENT
DTSTART;TZID=America/New_York:20240629T180000
DTEND;TZID=America/New_York:20240629T210000
DTSTAMP:20260425T165921
CREATED:20240608T120718Z
LAST-MODIFIED:20240609T175856Z
UID:1895-1719684000-1719694800@centralcarolinana.org
SUMMARY:Tacos & Spades!
DESCRIPTION:Welcome Home is hosting a fundraiser for our convention. Come out to help support-and have some fun and fellowship while you’re at it! Spades start at 6:30pm. $5 to play and $10 to play and eat.
URL:https://centralcarolinana.org/event/tacos-spades/
LOCATION:Hope Hole\, 1600 12th Street\, Cayce\, SC\, 29033\, United States
ATTACH;FMTTYPE=application/pdf:https://centralcarolinana.org/wp-content/uploads/2024/06/Tacos-Spades-1.pdf
END:VEVENT
BEGIN:VEVENT
DTSTART;TZID=America/New_York:20240609T150000
DTEND;TZID=America/New_York:20240609T170000
DTSTAMP:20260425T165921
CREATED:20240608T221937Z
LAST-MODIFIED:20240608T221937Z
UID:1908-1717945200-1717952400@centralcarolinana.org
SUMMARY:ASC Meeting
DESCRIPTION:Come check out our Area Service Committee Meeting.  Everyone is welcome.
URL:https://centralcarolinana.org/event/asc-meeting-2/
LOCATION:Next Right Thing\, 1600 12th Street\, Cayce\, SC\, 29033\, United States
END:VEVENT
BEGIN:VEVENT
DTSTART;TZID=America/New_York:20240602T100000
DTEND;TZID=America/New_York:20240602T180000
DTSTAMP:20260425T165921
CREATED:20240523T231444Z
LAST-MODIFIED:20240523T231444Z
UID:1873-1717322400-1717351200@centralcarolinana.org
SUMMARY:Dreher Island Cookout
DESCRIPTION:Shelter 11
URL:https://centralcarolinana.org/event/dreher-island-cookout/
LOCATION:Dreher Island\, 3677 State Park Rd.\, Prosperity\, SC\, 29127\, United States
END:VEVENT
BEGIN:VEVENT
DTSTART;TZID=America/New_York:20240601T180000
DTEND;TZID=America/New_York:20240601T190000
DTSTAMP:20260425T165921
CREATED:20240527T150722Z
LAST-MODIFIED:20240527T150722Z
UID:1879-1717264800-1717268400@centralcarolinana.org
SUMMARY:Welcome Home Business Meeting
DESCRIPTION:
URL:https://centralcarolinana.org/event/welcome-home-business-meeting-5/
LOCATION:Starbucks W. Columbia\, 2408 Augusta Rd.\, West Columbia\, SC\, 29169\, United States
END:VEVENT
END:VCALENDAR