BEGIN:VCALENDAR
VERSION:2.0
PRODID:-//CCANA - ECPv6.15.20//NONSGML v1.0//EN
CALSCALE:GREGORIAN
METHOD:PUBLISH
X-WR-CALNAME:CCANA
X-ORIGINAL-URL:https://centralcarolinana.org
X-WR-CALDESC:Events for CCANA
REFRESH-INTERVAL;VALUE=DURATION:PT1H
X-Robots-Tag:noindex
X-PUBLISHED-TTL:PT1H
BEGIN:VTIMEZONE
TZID:America/New_York
BEGIN:DAYLIGHT
TZOFFSETFROM:-0500
TZOFFSETTO:-0400
TZNAME:EDT
DTSTART:20250309T070000
END:DAYLIGHT
BEGIN:STANDARD
TZOFFSETFROM:-0400
TZOFFSETTO:-0500
TZNAME:EST
DTSTART:20251102T060000
END:STANDARD
BEGIN:DAYLIGHT
TZOFFSETFROM:-0500
TZOFFSETTO:-0400
TZNAME:EDT
DTSTART:20260308T070000
END:DAYLIGHT
BEGIN:STANDARD
TZOFFSETFROM:-0400
TZOFFSETTO:-0500
TZNAME:EST
DTSTART:20261101T060000
END:STANDARD
BEGIN:DAYLIGHT
TZOFFSETFROM:-0500
TZOFFSETTO:-0400
TZNAME:EDT
DTSTART:20270314T070000
END:DAYLIGHT
BEGIN:STANDARD
TZOFFSETFROM:-0400
TZOFFSETTO:-0500
TZNAME:EST
DTSTART:20271107T060000
END:STANDARD
END:VTIMEZONE
BEGIN:VEVENT
DTSTART;TZID=America/New_York:20260411T140000
DTEND;TZID=America/New_York:20260411T150000
DTSTAMP:20260424T201456
CREATED:20260406T212526Z
LAST-MODIFIED:20260406T212526Z
UID:2838-1775916000-1775919600@centralcarolinana.org
SUMMARY:Activities Subcommittee Meeting
DESCRIPTION:Zoom Only \nhttps://us06web.zoom.us/j/8037666863?pwd=72Q9hcfnRly3JhjXZgVHMk1cYlBEzf.1\nMeeting ID: 803 766 6863\nPasscode: 081690
URL:https://centralcarolinana.org/event/activities-subcommittee-meeting-9/
LOCATION:SC
END:VEVENT
BEGIN:VEVENT
DTSTART;TZID=America/New_York:20260411T150000
DTEND;TZID=America/New_York:20260411T160000
DTSTAMP:20260424T201456
CREATED:20260406T212652Z
LAST-MODIFIED:20260406T212652Z
UID:2840-1775919600-1775923200@centralcarolinana.org
SUMMARY:Convention Hospitality Meeting
DESCRIPTION:Cayce United Methodist Church
URL:https://centralcarolinana.org/event/convention-hospitality-meeting/
LOCATION:Next Right Thing\, 1600 12th Street\, Cayce\, SC\, 29033\, United States
END:VEVENT
BEGIN:VEVENT
DTSTART;TZID=America/New_York:20260411T160000
DTEND;TZID=America/New_York:20260411T180000
DTSTAMP:20260424T201456
CREATED:20260409T005014Z
LAST-MODIFIED:20260409T005014Z
UID:2845-1775923200-1775930400@centralcarolinana.org
SUMMARY:Convention Committee Meeting
DESCRIPTION:Cayce United Methodist Church
URL:https://centralcarolinana.org/event/convention-committee-meeting/
LOCATION:Next Right Thing\, 1600 12th Street\, Cayce\, SC\, 29033\, United States
END:VEVENT
END:VCALENDAR