BEGIN:VCALENDAR
VERSION:2.0
PRODID:-//CCANA - ECPv6.15.20//NONSGML v1.0//EN
CALSCALE:GREGORIAN
METHOD:PUBLISH
X-ORIGINAL-URL:https://centralcarolinana.org
X-WR-CALDESC:Events for CCANA
REFRESH-INTERVAL;VALUE=DURATION:PT1H
X-Robots-Tag:noindex
X-PUBLISHED-TTL:PT1H
BEGIN:VTIMEZONE
TZID:America/New_York
BEGIN:DAYLIGHT
TZOFFSETFROM:-0500
TZOFFSETTO:-0400
TZNAME:EDT
DTSTART:20250309T070000
END:DAYLIGHT
BEGIN:STANDARD
TZOFFSETFROM:-0400
TZOFFSETTO:-0500
TZNAME:EST
DTSTART:20251102T060000
END:STANDARD
BEGIN:DAYLIGHT
TZOFFSETFROM:-0500
TZOFFSETTO:-0400
TZNAME:EDT
DTSTART:20260308T070000
END:DAYLIGHT
BEGIN:STANDARD
TZOFFSETFROM:-0400
TZOFFSETTO:-0500
TZNAME:EST
DTSTART:20261101T060000
END:STANDARD
BEGIN:DAYLIGHT
TZOFFSETFROM:-0500
TZOFFSETTO:-0400
TZNAME:EDT
DTSTART:20270314T070000
END:DAYLIGHT
BEGIN:STANDARD
TZOFFSETFROM:-0400
TZOFFSETTO:-0500
TZNAME:EST
DTSTART:20271107T060000
END:STANDARD
END:VTIMEZONE
BEGIN:VEVENT
DTSTART;TZID=America/New_York:20260314T140000
DTEND;TZID=America/New_York:20260314T160000
DTSTAMP:20260424T214629
CREATED:20260310T182845Z
LAST-MODIFIED:20260310T182845Z
UID:2809-1773496800-1773504000@centralcarolinana.org
SUMMARY:Activities Subcommittee Meeting
DESCRIPTION:Join Zoom Meeting\nhttps://us06web.zoom.us/j/8037666863?pwd=72Q9hcfnRly3JhjXZgVHMk1cYlBEzf.1&omn=89137061724\nMeeting ID: 803 766 6863\nPasscode: 081690
URL:https://centralcarolinana.org/event/activities-subcommittee-meeting-8/
LOCATION:SC
END:VEVENT
BEGIN:VEVENT
DTSTART;TZID=America/New_York:20260314T160000
DTEND;TZID=America/New_York:20260314T170000
DTSTAMP:20260424T214629
CREATED:20260218T002408Z
LAST-MODIFIED:20260218T002408Z
UID:2778-1773504000-1773507600@centralcarolinana.org
SUMMARY:Recovery Under the Stars Business Meeting
DESCRIPTION:
URL:https://centralcarolinana.org/event/recovery-under-the-stars-business-meeting/
LOCATION:Starbucks Irmo\, 7688 Broad River Rd\, Irmo\, SC\, 29063\, United States
END:VEVENT
BEGIN:VEVENT
DTSTART;TZID=America/New_York:20260314T183000
DTEND;TZID=America/New_York:20260314T193000
DTSTAMP:20260424T214629
CREATED:20260307T183536Z
LAST-MODIFIED:20260307T183536Z
UID:2795-1773513000-1773516600@centralcarolinana.org
SUMMARY:Better Together Celebration
DESCRIPTION:Becca D – 21 years. Charlotte F – 10 years. Dusty S – 4 years. Jess R – 1 year. Speaker meeting with Joseph A. There will be cake!
URL:https://centralcarolinana.org/event/better-together-celebration/
LOCATION:Better Together\, 410 Harbison Blvd.\, Columbia\, SC\, 29212\, United States
ATTACH;FMTTYPE=image/jpeg:https://centralcarolinana.org/wp-content/uploads/2026/03/BT-March26-celebration.jpg
END:VEVENT
END:VCALENDAR