BEGIN:VCALENDAR
VERSION:2.0
PRODID:-//CCANA - ECPv6.15.20//NONSGML v1.0//EN
CALSCALE:GREGORIAN
METHOD:PUBLISH
X-WR-CALNAME:CCANA
X-ORIGINAL-URL:https://centralcarolinana.org
X-WR-CALDESC:Events for CCANA
REFRESH-INTERVAL;VALUE=DURATION:PT1H
X-Robots-Tag:noindex
X-PUBLISHED-TTL:PT1H
BEGIN:VTIMEZONE
TZID:America/New_York
BEGIN:DAYLIGHT
TZOFFSETFROM:-0500
TZOFFSETTO:-0400
TZNAME:EDT
DTSTART:20250309T070000
END:DAYLIGHT
BEGIN:STANDARD
TZOFFSETFROM:-0400
TZOFFSETTO:-0500
TZNAME:EST
DTSTART:20251102T060000
END:STANDARD
BEGIN:DAYLIGHT
TZOFFSETFROM:-0500
TZOFFSETTO:-0400
TZNAME:EDT
DTSTART:20260308T070000
END:DAYLIGHT
BEGIN:STANDARD
TZOFFSETFROM:-0400
TZOFFSETTO:-0500
TZNAME:EST
DTSTART:20261101T060000
END:STANDARD
BEGIN:DAYLIGHT
TZOFFSETFROM:-0500
TZOFFSETTO:-0400
TZNAME:EDT
DTSTART:20270314T070000
END:DAYLIGHT
BEGIN:STANDARD
TZOFFSETFROM:-0400
TZOFFSETTO:-0500
TZNAME:EST
DTSTART:20271107T060000
END:STANDARD
END:VTIMEZONE
BEGIN:VEVENT
DTSTART;TZID=America/New_York:20260117T160000
DTEND;TZID=America/New_York:20260117T170000
DTSTAMP:20260425T002050
CREATED:20251123T143953Z
LAST-MODIFIED:20251123T143953Z
UID:2647-1768665600-1768669200@centralcarolinana.org
SUMMARY:Welcome Home Subcommittee Meeting
DESCRIPTION:
URL:https://centralcarolinana.org/event/welcome-home-subcommittee-meeting-4/
LOCATION:Next Right Thing\, 1600 12th Street\, Cayce\, SC\, 29033\, United States
END:VEVENT
BEGIN:VEVENT
DTSTART;TZID=America/New_York:20260117T183000
DTEND;TZID=America/New_York:20260117T193000
DTSTAMP:20260425T002050
CREATED:20260116T173826Z
LAST-MODIFIED:20260116T173826Z
UID:2706-1768674600-1768678200@centralcarolinana.org
SUMMARY:Celebration at Better Together
DESCRIPTION:Kelsey W. 16 years\, Clif L. 13 years\, Tom R. 11 years. Speaker: Rachel K.
URL:https://centralcarolinana.org/event/celebration-at-better-together-4/
LOCATION:Better Together\, 410 Harbison Blvd.\, Columbia\, SC\, 29212\, United States
ATTACH;FMTTYPE=image/jpeg:https://centralcarolinana.org/wp-content/uploads/2026/01/bettertogether_celebration_jan17.jpg
END:VEVENT
END:VCALENDAR