BEGIN:VCALENDAR
VERSION:2.0
PRODID:-//CCANA - ECPv6.15.20//NONSGML v1.0//EN
CALSCALE:GREGORIAN
METHOD:PUBLISH
X-ORIGINAL-URL:https://centralcarolinana.org
X-WR-CALDESC:Events for CCANA
REFRESH-INTERVAL;VALUE=DURATION:PT1H
X-Robots-Tag:noindex
X-PUBLISHED-TTL:PT1H
BEGIN:VTIMEZONE
TZID:America/New_York
BEGIN:DAYLIGHT
TZOFFSETFROM:-0500
TZOFFSETTO:-0400
TZNAME:EDT
DTSTART:20240310T070000
END:DAYLIGHT
BEGIN:STANDARD
TZOFFSETFROM:-0400
TZOFFSETTO:-0500
TZNAME:EST
DTSTART:20241103T060000
END:STANDARD
BEGIN:DAYLIGHT
TZOFFSETFROM:-0500
TZOFFSETTO:-0400
TZNAME:EDT
DTSTART:20250309T070000
END:DAYLIGHT
BEGIN:STANDARD
TZOFFSETFROM:-0400
TZOFFSETTO:-0500
TZNAME:EST
DTSTART:20251102T060000
END:STANDARD
BEGIN:DAYLIGHT
TZOFFSETFROM:-0500
TZOFFSETTO:-0400
TZNAME:EDT
DTSTART:20260308T070000
END:DAYLIGHT
BEGIN:STANDARD
TZOFFSETFROM:-0400
TZOFFSETTO:-0500
TZNAME:EST
DTSTART:20261101T060000
END:STANDARD
END:VTIMEZONE
BEGIN:VEVENT
DTSTART;TZID=America/New_York:20250601T141500
DTEND;TZID=America/New_York:20250601T150000
DTSTAMP:20260425T094327
CREATED:20250525T225904Z
LAST-MODIFIED:20250525T225904Z
UID:2337-1748787300-1748790000@centralcarolinana.org
SUMMARY:H&I Orientation
DESCRIPTION:
URL:https://centralcarolinana.org/event/hi-orientation-6/
LOCATION:Naturally High\, 5220 Clemson Ave\, Columbia\, 29204\, United States
END:VEVENT
BEGIN:VEVENT
DTSTART;TZID=America/New_York:20250601T150000
DTEND;TZID=America/New_York:20250601T160000
DTSTAMP:20260425T094327
CREATED:20250525T230014Z
LAST-MODIFIED:20250525T230014Z
UID:2339-1748790000-1748793600@centralcarolinana.org
SUMMARY:H&I Subcommittee Meeting
DESCRIPTION:
URL:https://centralcarolinana.org/event/hi-subcommittee-meeting-5/
LOCATION:Naturally High\, 5220 Clemson Ave\, Columbia\, 29204\, United States
END:VEVENT
END:VCALENDAR