BEGIN:VCALENDAR
VERSION:2.0
PRODID:-//CCANA - ECPv6.15.20//NONSGML v1.0//EN
CALSCALE:GREGORIAN
METHOD:PUBLISH
X-WR-CALNAME:CCANA
X-ORIGINAL-URL:https://centralcarolinana.org
X-WR-CALDESC:Events for CCANA
REFRESH-INTERVAL;VALUE=DURATION:PT1H
X-Robots-Tag:noindex
X-PUBLISHED-TTL:PT1H
BEGIN:VTIMEZONE
TZID:America/New_York
BEGIN:DAYLIGHT
TZOFFSETFROM:-0500
TZOFFSETTO:-0400
TZNAME:EDT
DTSTART:20230312T070000
END:DAYLIGHT
BEGIN:STANDARD
TZOFFSETFROM:-0400
TZOFFSETTO:-0500
TZNAME:EST
DTSTART:20231105T060000
END:STANDARD
BEGIN:DAYLIGHT
TZOFFSETFROM:-0500
TZOFFSETTO:-0400
TZNAME:EDT
DTSTART:20240310T070000
END:DAYLIGHT
BEGIN:STANDARD
TZOFFSETFROM:-0400
TZOFFSETTO:-0500
TZNAME:EST
DTSTART:20241103T060000
END:STANDARD
BEGIN:DAYLIGHT
TZOFFSETFROM:-0500
TZOFFSETTO:-0400
TZNAME:EDT
DTSTART:20250309T070000
END:DAYLIGHT
BEGIN:STANDARD
TZOFFSETFROM:-0400
TZOFFSETTO:-0500
TZNAME:EST
DTSTART:20251102T060000
END:STANDARD
END:VTIMEZONE
BEGIN:VEVENT
DTSTART;TZID=America/New_York:20241228T170000
DTEND;TZID=America/New_York:20241228T180000
DTSTAMP:20260425T175029
CREATED:20241202T222929Z
LAST-MODIFIED:20241202T223015Z
UID:2155-1735405200-1735408800@centralcarolinana.org
SUMMARY:Welcome Home Convention Committee Meeting
DESCRIPTION:
URL:https://centralcarolinana.org/event/welcome-home-convention-committee-meeting-3/
LOCATION:Next Right Thing\, 1600 12th Street\, Cayce\, SC\, 29033\, United States
END:VEVENT
BEGIN:VEVENT
DTSTART;TZID=America/New_York:20241228T210000
DTEND;TZID=America/New_York:20241228T220000
DTSTAMP:20260425T175029
CREATED:20241213T001916Z
LAST-MODIFIED:20241214T011604Z
UID:2169-1735419600-1735423200@centralcarolinana.org
SUMMARY:Celebration at Hope Hole
DESCRIPTION:Come help Brian F celebrate 26yrs! Cliff L will be speaking.
URL:https://centralcarolinana.org/event/brian-f-celebration-at-hope-hole/
LOCATION:Hope Hole\, 1600 12th Street\, Cayce\, SC\, 29033\, United States
END:VEVENT
END:VCALENDAR