BEGIN:VCALENDAR
VERSION:2.0
PRODID:-//CCANA - ECPv6.15.20//NONSGML v1.0//EN
CALSCALE:GREGORIAN
METHOD:PUBLISH
X-ORIGINAL-URL:https://centralcarolinana.org
X-WR-CALDESC:Events for CCANA
REFRESH-INTERVAL;VALUE=DURATION:PT1H
X-Robots-Tag:noindex
X-PUBLISHED-TTL:PT1H
BEGIN:VTIMEZONE
TZID:America/New_York
BEGIN:DAYLIGHT
TZOFFSETFROM:-0500
TZOFFSETTO:-0400
TZNAME:EDT
DTSTART:20230312T070000
END:DAYLIGHT
BEGIN:STANDARD
TZOFFSETFROM:-0400
TZOFFSETTO:-0500
TZNAME:EST
DTSTART:20231105T060000
END:STANDARD
BEGIN:DAYLIGHT
TZOFFSETFROM:-0500
TZOFFSETTO:-0400
TZNAME:EDT
DTSTART:20240310T070000
END:DAYLIGHT
BEGIN:STANDARD
TZOFFSETFROM:-0400
TZOFFSETTO:-0500
TZNAME:EST
DTSTART:20241103T060000
END:STANDARD
BEGIN:DAYLIGHT
TZOFFSETFROM:-0500
TZOFFSETTO:-0400
TZNAME:EDT
DTSTART:20250309T070000
END:DAYLIGHT
BEGIN:STANDARD
TZOFFSETFROM:-0400
TZOFFSETTO:-0500
TZNAME:EST
DTSTART:20251102T060000
END:STANDARD
END:VTIMEZONE
BEGIN:VEVENT
DTSTART;TZID=America/New_York:20240924T173000
DTEND;TZID=America/New_York:20240924T183000
DTSTAMP:20260425T214024
CREATED:20240918T235156Z
LAST-MODIFIED:20240918T235527Z
UID:2067-1727199000-1727202600@centralcarolinana.org
SUMMARY:Activities Committee Meeting
DESCRIPTION:Come get involved in service with our Area’s Activities Committee
URL:https://centralcarolinana.org/event/welcome-home-commitee-meeting/
LOCATION:Cayce Starbucks\, 727 Knox Abbott Drive\, Cayce\, SC\, 29033\, United States
END:VEVENT
BEGIN:VEVENT
DTSTART;TZID=America/New_York:20240924T183000
DTEND;TZID=America/New_York:20240924T193000
DTSTAMP:20260425T214024
CREATED:20240910T215558Z
LAST-MODIFIED:20240910T215558Z
UID:2058-1727202600-1727206200@centralcarolinana.org
SUMMARY:Bridget's celebration at Ladies' Night
DESCRIPTION:Come help Bridget celebrate 2yrs at Ladies Night. Dessert will be provided!
URL:https://centralcarolinana.org/event/bridgets-celebration-at-ladies-night/
LOCATION:Ladies’ Night\, 1000 B Ave.\, West Columbia\, SC\, 29169\, United States
END:VEVENT
END:VCALENDAR