BEGIN:VCALENDAR
VERSION:2.0
PRODID:-//CCANA - ECPv6.15.20//NONSGML v1.0//EN
CALSCALE:GREGORIAN
METHOD:PUBLISH
X-WR-CALNAME:CCANA
X-ORIGINAL-URL:https://centralcarolinana.org
X-WR-CALDESC:Events for CCANA
REFRESH-INTERVAL;VALUE=DURATION:PT1H
X-Robots-Tag:noindex
X-PUBLISHED-TTL:PT1H
BEGIN:VTIMEZONE
TZID:America/New_York
BEGIN:DAYLIGHT
TZOFFSETFROM:-0500
TZOFFSETTO:-0400
TZNAME:EDT
DTSTART:20230312T070000
END:DAYLIGHT
BEGIN:STANDARD
TZOFFSETFROM:-0400
TZOFFSETTO:-0500
TZNAME:EST
DTSTART:20231105T060000
END:STANDARD
BEGIN:DAYLIGHT
TZOFFSETFROM:-0500
TZOFFSETTO:-0400
TZNAME:EDT
DTSTART:20240310T070000
END:DAYLIGHT
BEGIN:STANDARD
TZOFFSETFROM:-0400
TZOFFSETTO:-0500
TZNAME:EST
DTSTART:20241103T060000
END:STANDARD
BEGIN:DAYLIGHT
TZOFFSETFROM:-0500
TZOFFSETTO:-0400
TZNAME:EDT
DTSTART:20250309T070000
END:DAYLIGHT
BEGIN:STANDARD
TZOFFSETFROM:-0400
TZOFFSETTO:-0500
TZNAME:EST
DTSTART:20251102T060000
END:STANDARD
END:VTIMEZONE
BEGIN:VEVENT
DTSTART;TZID=America/New_York:20240921T210000
DTEND;TZID=America/New_York:20240921T220000
DTSTAMP:20260425T213950
CREATED:20240903T001445Z
LAST-MODIFIED:20240903T001445Z
UID:2031-1726952400-1726956000@centralcarolinana.org
SUMMARY:Jason B. celebration at Hope Hole
DESCRIPTION:Come help Jason B. celebrate 5 years at Hope Hole! Justin C. will be speaking.
URL:https://centralcarolinana.org/event/jason-b-celebration-at-hope-hole/
LOCATION:Hope Hole\, 1600 12th Street\, Cayce\, SC\, 29033\, United States
END:VEVENT
END:VCALENDAR