BEGIN:VCALENDAR
VERSION:2.0
PRODID:-//CCANA - ECPv6.15.20//NONSGML v1.0//EN
CALSCALE:GREGORIAN
METHOD:PUBLISH
X-WR-CALNAME:CCANA
X-ORIGINAL-URL:https://centralcarolinana.org
X-WR-CALDESC:Events for CCANA
REFRESH-INTERVAL;VALUE=DURATION:PT1H
X-Robots-Tag:noindex
X-PUBLISHED-TTL:PT1H
BEGIN:VTIMEZONE
TZID:America/New_York
BEGIN:DAYLIGHT
TZOFFSETFROM:-0500
TZOFFSETTO:-0400
TZNAME:EDT
DTSTART:20230312T070000
END:DAYLIGHT
BEGIN:STANDARD
TZOFFSETFROM:-0400
TZOFFSETTO:-0500
TZNAME:EST
DTSTART:20231105T060000
END:STANDARD
BEGIN:DAYLIGHT
TZOFFSETFROM:-0500
TZOFFSETTO:-0400
TZNAME:EDT
DTSTART:20240310T070000
END:DAYLIGHT
BEGIN:STANDARD
TZOFFSETFROM:-0400
TZOFFSETTO:-0500
TZNAME:EST
DTSTART:20241103T060000
END:STANDARD
BEGIN:DAYLIGHT
TZOFFSETFROM:-0500
TZOFFSETTO:-0400
TZNAME:EDT
DTSTART:20250309T070000
END:DAYLIGHT
BEGIN:STANDARD
TZOFFSETFROM:-0400
TZOFFSETTO:-0500
TZNAME:EST
DTSTART:20251102T060000
END:STANDARD
END:VTIMEZONE
BEGIN:VEVENT
DTSTART;TZID=America/New_York:20240829T173000
DTEND;TZID=America/New_York:20240829T190000
DTSTAMP:20260425T213928
CREATED:20240811T131408Z
LAST-MODIFIED:20240812T234052Z
UID:1992-1724952600-1724958000@centralcarolinana.org
SUMMARY:Celebration at Serenity at Sunset!
DESCRIPTION:Come celebrate Paula S (37yrs) at Serenity at Sunset. Food and fellowship afterwards! Covered dishes welcome.
URL:https://centralcarolinana.org/event/paula-s-celebration-at-serenity-at-sunset/
LOCATION:Serenity at Sunset\, 3215 Platt Springs Rd\, West Columbia\, SC\, 29170\, United States
END:VEVENT
BEGIN:VEVENT
DTSTART;TZID=America/New_York:20240829T190000
DTEND;TZID=America/New_York:20240829T200000
DTSTAMP:20260425T213928
CREATED:20240823T122610Z
LAST-MODIFIED:20240823T122728Z
UID:2014-1724958000-1724961600@centralcarolinana.org
SUMMARY:Celebration @ Avenue Q!
DESCRIPTION:Manda S. celebrating 5 years!  Josh G is the speaker.  Come help us celebrate!
URL:https://centralcarolinana.org/event/2014/
LOCATION:Avenue Q\, 2827 Wheat Street Rm 215\, Columbia\, SC\, 29205\, United States
END:VEVENT
END:VCALENDAR