BEGIN:VCALENDAR
VERSION:2.0
PRODID:-//CCANA - ECPv6.15.20//NONSGML v1.0//EN
CALSCALE:GREGORIAN
METHOD:PUBLISH
X-WR-CALNAME:CCANA
X-ORIGINAL-URL:https://centralcarolinana.org
X-WR-CALDESC:Events for CCANA
REFRESH-INTERVAL;VALUE=DURATION:PT1H
X-Robots-Tag:noindex
X-PUBLISHED-TTL:PT1H
BEGIN:VTIMEZONE
TZID:America/New_York
BEGIN:DAYLIGHT
TZOFFSETFROM:-0500
TZOFFSETTO:-0400
TZNAME:EDT
DTSTART:20230312T070000
END:DAYLIGHT
BEGIN:STANDARD
TZOFFSETFROM:-0400
TZOFFSETTO:-0500
TZNAME:EST
DTSTART:20231105T060000
END:STANDARD
BEGIN:DAYLIGHT
TZOFFSETFROM:-0500
TZOFFSETTO:-0400
TZNAME:EDT
DTSTART:20240310T070000
END:DAYLIGHT
BEGIN:STANDARD
TZOFFSETFROM:-0400
TZOFFSETTO:-0500
TZNAME:EST
DTSTART:20241103T060000
END:STANDARD
BEGIN:DAYLIGHT
TZOFFSETFROM:-0500
TZOFFSETTO:-0400
TZNAME:EDT
DTSTART:20250309T070000
END:DAYLIGHT
BEGIN:STANDARD
TZOFFSETFROM:-0400
TZOFFSETTO:-0500
TZNAME:EST
DTSTART:20251102T060000
END:STANDARD
END:VTIMEZONE
BEGIN:VEVENT
DTSTART;TZID=America/New_York:20240728T140000
DTEND;TZID=America/New_York:20240728T150000
DTSTAMP:20260426T001920
CREATED:20240714T173821Z
LAST-MODIFIED:20240721T001306Z
UID:1947-1722175200-1722178800@centralcarolinana.org
SUMMARY:PR Committee Meeting
DESCRIPTION:Come join us and help carry the message of Narcotics Anonymous.  We have several opportunities for service.  No clean time requirement to serve!  Any and all ideas welcome!
URL:https://centralcarolinana.org/event/pr-committee-meeting/
LOCATION:Naturally High\, 5220 Clemson Ave\, Columbia\, 29204\, United States
END:VEVENT
BEGIN:VEVENT
DTSTART;TZID=America/New_York:20240728T140000
DTEND;TZID=America/New_York:20240728T160000
DTSTAMP:20260426T001920
CREATED:20240721T224031Z
LAST-MODIFIED:20240721T224338Z
UID:1963-1722175200-1722182400@centralcarolinana.org
SUMMARY:H&I Committee Meeting
DESCRIPTION:Orientation starts at 2:15pm\, business meeting starts at 3pm.
URL:https://centralcarolinana.org/event/hi/
LOCATION:Naturally High\, 5220 Clemson Ave\, Columbia\, 29204\, United States
END:VEVENT
END:VCALENDAR