BEGIN:VCALENDAR
VERSION:2.0
PRODID:-//CCANA - ECPv6.15.20//NONSGML v1.0//EN
CALSCALE:GREGORIAN
METHOD:PUBLISH
X-WR-CALNAME:CCANA
X-ORIGINAL-URL:https://centralcarolinana.org
X-WR-CALDESC:Events for CCANA
REFRESH-INTERVAL;VALUE=DURATION:PT1H
X-Robots-Tag:noindex
X-PUBLISHED-TTL:PT1H
BEGIN:VTIMEZONE
TZID:America/New_York
BEGIN:DAYLIGHT
TZOFFSETFROM:-0500
TZOFFSETTO:-0400
TZNAME:EDT
DTSTART:20230312T070000
END:DAYLIGHT
BEGIN:STANDARD
TZOFFSETFROM:-0400
TZOFFSETTO:-0500
TZNAME:EST
DTSTART:20231105T060000
END:STANDARD
BEGIN:DAYLIGHT
TZOFFSETFROM:-0500
TZOFFSETTO:-0400
TZNAME:EDT
DTSTART:20240310T070000
END:DAYLIGHT
BEGIN:STANDARD
TZOFFSETFROM:-0400
TZOFFSETTO:-0500
TZNAME:EST
DTSTART:20241103T060000
END:STANDARD
BEGIN:DAYLIGHT
TZOFFSETFROM:-0500
TZOFFSETTO:-0400
TZNAME:EDT
DTSTART:20250309T070000
END:DAYLIGHT
BEGIN:STANDARD
TZOFFSETFROM:-0400
TZOFFSETTO:-0500
TZNAME:EST
DTSTART:20251102T060000
END:STANDARD
END:VTIMEZONE
BEGIN:VEVENT
DTSTART;TZID=America/New_York:20240725T173000
DTEND;TZID=America/New_York:20240725T190000
DTSTAMP:20260426T001919
CREATED:20240714T174404Z
LAST-MODIFIED:20240714T174446Z
UID:1951-1721928600-1721934000@centralcarolinana.org
SUMMARY:Celebration at Serenity at Sunset
DESCRIPTION:Come help celebrate Brooke S. (7yrs)\, Monty B. (8yrs) and John K. (37yrs). Kent E. will be sharing his ESH. Food and fellowship will follow after the meeting. Covered dish dinner\, please feel free to bring something to share.
URL:https://centralcarolinana.org/event/celebration-at-serenity-at-sunset-4/
LOCATION:Serenity at Sunset\, 3215 Platt Springs Rd\, West Columbia\, SC\, 29170\, United States
END:VEVENT
END:VCALENDAR